BEGIN:VCALENDAR
VERSION:2.0
PRODID:-//ChamberMaster//Event Calendar 2.0//EN
METHOD:PUBLISH
X-PUBLISHED-TTL:P3D
REFRESH-INTERVAL:P3D
CALSCALE:GREGORIAN
BEGIN:VEVENT
DTSTART:20150828T140000Z
DTEND:20150828T160000Z
X-MICROSOFT-CDO-ALLDAYEVENT:FALSE
SUMMARY:Brunch with Will's Way and Funny Cide Friday August 28\, 2015
DESCRIPTION:Come to Old Friends at Cabin Creek for a very special brunch with 1996 Travers Winner\, Will's Way and 2003 Kentucky Derby and Preakness Winner\, Funny Cide! 'Eat Good Food' chefs Jean and John Travis will provide brunch and a silent auction will offer an authenticated Funny Cide Halter among other unique items. Tours until 4 PM. Suggested donation of $10. for brunch.
X-ALT-DESC;FMTTYPE=text/html:Come to Old Friends at Cabin Creek for a very special brunch with 1996 Travers Winner\, Will&#39\;s Way and 2003 Kentucky Derby and Preakness Winner\, Funny Cide! &#39\;Eat Good Food&#39\; chefs Jean and John Travis will provide brunch and a silent auction will offer an authenticated Funny Cide Halter among other unique items. Tours until 4 PM. Suggested donation of $10. for brunch.
LOCATION:Old Friends at Cabin Creek 483 Sand Hill Rd. Greenfield Center\, NY 12833
UID:e.2254.12280
SEQUENCE:3
DTSTAMP:20260423T023951Z
URL:https://chamber.saratoga.org/events/details/brunch-with-will-s-way-and-funny-cide-friday-august-28-2015-08-28-2015-12280
END:VEVENT

END:VCALENDAR
