BEGIN:VCALENDAR
VERSION:2.0
PRODID:-//ChamberMaster//Event Calendar 2.0//EN
METHOD:PUBLISH
X-PUBLISHED-TTL:P3D
REFRESH-INTERVAL:P3D
CALSCALE:GREGORIAN
BEGIN:VEVENT
DTSTART:20140904T140000Z
DTEND:20140904T150000Z
X-MICROSOFT-CDO-ALLDAYEVENT:FALSE
SUMMARY:Brown Bag Lunch Lecture - 09/04/2014
DESCRIPTION:Since 1887: Saratoga's Police DepartmentBy 1887\, Saratoga Springs had grown to a point where a police department was needed to ensure law and order.  An act of the State Legislature created the Saratoga Springs police department on April 26th of that year\, and on June 1st\, eight men marked their first official work day in the new department. Come hear Saratoga Springs’ Police Chief Greg Veitch talk about this unique part of our city’s history.  The Brown Bag Lunch Lecture Series is a monthly\, hour-long program presented in partnership by the Saratoga Springs Heritage Area Visitor Center and the Saratoga Springs Public Library. This event is conducted in the Dutcher Community Room located on the main floor of the library.      This program is free and open to the public and begins promptly at noon. Tea and coffee are provided. For more information please contact the Visitor Center at 518-587-3241.
X-ALT-DESC;FMTTYPE=text/html:<p>Since 1887: Saratoga's Police Department</p><p class="Noparagraphstyle"><span style="font-family: Arial Narrow\;">By 1887\, Saratoga Springs had grown to a point where a police department was needed to ensure law and order.<span>&nbsp\; </span>An act of the State Legislature created the Saratoga Springs police department on April 26th of that year\, and on June 1st\, eight men marked their first official work day in the new department. Come hear Saratoga Springs’ Police Chief Greg Veitch talk about this unique part of our city’s history.</span></p> <pre><span style="font-size: 12pt\; font-family: Arial Narrow\;">&nbsp\;</span></pre><pre><span style="font-size: 12pt\; font-family: Arial Narrow\;">The Brown Bag Lunch Lecture Series is a monthly\, hour-long program presented in partnership by the Saratoga Springs Heritage Area Visitor Center and the Saratoga Springs Public Library. This event is conducted in </span><span style="font-size: 12pt\; font-family: Arial Narrow\;">the Dutcher Community Room located on the main floor of the library.<span>&nbsp\; </span></span> </pre> <p><span style="font-size: 12pt\; font-family: Arial Narrow\; color: windowtext\;">&nbsp\;</span></p> <p><span style="font-size: 12pt\; font-family: Arial Narrow\; color: windowtext\;">This program is free and open to the public and begins promptly at noon. </span><span style="font-size: 12pt\; font-family: Arial Narrow\; color: windowtext\;">Tea and coffee are provided. For more information please contact the Visitor Center at 518-587-3241.<span>&nbsp\; </span></span></p>
LOCATION:Saratoga Springs Public Library
UID:e.2254.3546
SEQUENCE:3
DTSTAMP:20260424T110845Z
URL:https://chamber.saratoga.org/events/details/brown-bag-lunch-lecture-09-04-2014-09-04-2014-3546
END:VEVENT

END:VCALENDAR
