BEGIN:VCALENDAR
VERSION:2.0
PRODID:-//ChamberMaster//Event Calendar 2.0//EN
METHOD:PUBLISH
X-PUBLISHED-TTL:P3D
REFRESH-INTERVAL:P3D
CALSCALE:GREGORIAN
BEGIN:VEVENT
DTSTART:20140804T110000Z
DTEND:20140804T170000Z
X-MICROSOFT-CDO-ALLDAYEVENT:FALSE
SUMMARY:Brookside Digs - 08/04/2014
DESCRIPTION:REAL archeology digging summer program for ChildrenJoin us for a hands-on program where your child will participate in all parts of a REAL archeology dig - from the research to the digging and cleaning to the artifact analysis! This program will run every day from August 4th to 8th from 9am to 3pm. It is best suited for children ages 10-15\, and costs $250 per child for the whole week. Don't miss this chance to learn about Ballston Spa's past!
X-ALT-DESC;FMTTYPE=text/html:<p>REAL archeology digging summer program for Children</p><p>Join us for a hands-on program where your child will participate in all parts of a REAL archeology dig - from the research to the digging and cleaning to the artifact analysis! This program will run every day from August 4th to 8th from 9am to 3pm. It is best suited for children ages 10-15\, and costs $250 per child for the whole week. Don't miss this chance to learn about Ballston Spa's past!&nbsp\;</p>
LOCATION:Brookside Museum
UID:e.2254.1849
SEQUENCE:3
DTSTAMP:20260424T165601Z
URL:https://chamber.saratoga.org/events/details/brookside-digs-08-04-2014-08-04-2014-1849
END:VEVENT

END:VCALENDAR
