BEGIN:VCALENDAR
VERSION:2.0
PRODID:-//ChamberMaster//Event Calendar 2.0//EN
METHOD:PUBLISH
X-PUBLISHED-TTL:P3D
REFRESH-INTERVAL:P3D
CALSCALE:GREGORIAN
BEGIN:VEVENT
DTSTART:20150425T130000Z
DTEND:20150425T180000Z
X-MICROSOFT-CDO-ALLDAYEVENT:FALSE
SUMMARY:Brookside Cleanup Day
DESCRIPTION:Come help us get Brookside ready for spring! Refreshments and Lunch provided. Contact info@brooksidemuseum.org if you can pitch-in!
X-ALT-DESC;FMTTYPE=text/html:Come help us get Brookside ready for spring! Refreshments and Lunch provided. Contact info@brooksidemuseum.org if you can pitch-in!
LOCATION:Brookside Museum\, 6 Charlton Street Ballston Spa
UID:e.2254.7681
SEQUENCE:3
DTSTAMP:20260423T195827Z
URL:https://chamber.saratoga.org/events/details/brookside-cleanup-day-04-25-2015-7681
END:VEVENT

END:VCALENDAR
