BEGIN:VCALENDAR
VERSION:2.0
PRODID:-//ChamberMaster//Event Calendar 2.0//EN
METHOD:PUBLISH
X-PUBLISHED-TTL:P3D
REFRESH-INTERVAL:P3D
CALSCALE:GREGORIAN
BEGIN:VEVENT
DTSTART:20160719T200000Z
DTEND:20160719T223000Z
X-MICROSOFT-CDO-ALLDAYEVENT:FALSE
SUMMARY:Brooks BBQ to Benefit the Saratoga Senior Center
DESCRIPTION:The famous Brooks BBQ will be cooking on site and offering two dinner choices. To benefit the Saratoga Senior Center. Dinners include: Baked potato\, coleslaw and roll.  $11: 1/2 Chicken Dinner  $14: Pork Rib Dinner Pre-sale tickets available July 1. Saratoga Senior Center   5 Williams Street Saratoga Springs Come on in and enjoy a delicious meal while helping to raise money for the Senior Center! Please call 518-584-1621 to purchase pre-sale tickets. Only a limited quantity of dinners will be available for purchase that day. This is a rain or shine event! Guests may eat in or take out. Dinners must be claimed by 6 pm. Bulk orders can be placed for businesses\, fire/police stations and medical offices. Call 584-1621. Delivery available for bulk orders.
X-ALT-DESC;FMTTYPE=text/html:The famous Brooks BBQ will be cooking on site and offering two dinner choices. To benefit the Saratoga Senior Center. Dinners include: Baked potato\, coleslaw and roll. &bull\;$11: 1/2 Chicken Dinner &bull\;$14: Pork Rib Dinner Pre-sale tickets available July 1. Saratoga Senior Center &ndash\; 5 Williams Street Saratoga Springs Come on in and enjoy a delicious meal while helping to raise money for the Senior Center! Please call 518-584-1621 to purchase pre-sale tickets. Only a limited quantity of dinners will be available for purchase that day. This is a rain or shine event! Guests may eat in or take out. Dinners must be claimed by 6 pm. Bulk orders can be placed for businesses\, fire/police stations and medical offices. Call 584-1621. Delivery available for bulk orders.
LOCATION:Saratoga Senior Center 5 Williams Street Saratoga Springs
UID:e.2254.17034
SEQUENCE:3
DTSTAMP:20260421T051333Z
URL:https://chamber.saratoga.org/events/details/brooks-bbq-to-benefit-the-saratoga-senior-center-07-19-2016-17034
END:VEVENT

END:VCALENDAR
