BEGIN:VCALENDAR
VERSION:2.0
PRODID:-//ChamberMaster//Event Calendar 2.0//EN
METHOD:PUBLISH
X-PUBLISHED-TTL:P3D
REFRESH-INTERVAL:P3D
CALSCALE:GREGORIAN
BEGIN:VEVENT
DTSTART:20151121T140000Z
DTEND:20151121T150000Z
X-MICROSOFT-CDO-ALLDAYEVENT:FALSE
SUMMARY:Bring a Friday for free!
DESCRIPTION:Come check out what a group training class looks like at Purebred Athletics.  We have programmed a fun team workout that is guaranteed to leaving you gassed\, but wanting more at the same time! Email info@purebredathletics.com to let us know you will be there.
X-ALT-DESC;FMTTYPE=text/html:Come check out what a group training class looks like at Purebred Athletics. &nbsp\;We have programmed a fun team workout that is guaranteed to leaving you gassed\, but wanting more at the same time! Email info@purebredathletics.com to let us know you will be there. &nbsp\;
LOCATION:11C Solar Drive Clifton Park\, NY 12065
UID:e.2254.12819
SEQUENCE:3
DTSTAMP:20260422T103042Z
URL:https://chamber.saratoga.org/events/details/bring-a-friday-for-free-11-21-2015-12819
END:VEVENT

END:VCALENDAR
