BEGIN:VCALENDAR
VERSION:2.0
PRODID:-//ChamberMaster//Event Calendar 2.0//EN
METHOD:PUBLISH
X-PUBLISHED-TTL:P3D
REFRESH-INTERVAL:P3D
CALSCALE:GREGORIAN
BEGIN:VEVENT
DTSTART:20160407T220000Z
DTEND:20160408T010000Z
X-MICROSOFT-CDO-ALLDAYEVENT:FALSE
SUMMARY:Brighter Days\, Shelters of Saratoga 2016 Gala
DESCRIPTION:Please join Shelters of Saratoga and Honorary Co-Chairs\, Richard Higgins and Jane Sanzen as they commemorate 25 years of providing homeless services in the Greater Saratoga region. The Brighter Days Gala will feature a cocktail party\, hors d'oeuvres and music as we highlight the core reason for SOS's existence: help\, hope and humanity for those who are striving for meaningful change in their lives. Visit: www.sheltersofsaratoga.org to make your reservations today PS -- To commemorate SOS's 25th anniversary\, we ask members of the community to nominate an individual\, organization or business who has made a significant positive impact in the lives of those who are homeless or at-risk of homelessness. Please make your nominations by February 6\, 2016 at: tinyurl.com/sosnominations Individuals will be awarded at the Brighter Days Gala on April 7th\, 2016 at Longfellows Restaurant.
X-ALT-DESC;FMTTYPE=text/html:Please join Shelters of Saratoga and Honorary Co-Chairs\, Richard Higgins and Jane Sanzen as they commemorate 25 years of providing homeless services in the Greater Saratoga region. The Brighter Days Gala will feature a cocktail party\, hors d&#39\;oeuvres and music as we highlight the core reason for SOS&#39\;s existence: help\, hope and humanity for those who are striving for meaningful change in their lives. Visit: www.sheltersofsaratoga.org to make your reservations today PS -- To commemorate SOS&#39\;s 25th anniversary\, we ask members of the community to nominate an individual\, organization or business who has made a significant positive impact in the lives of those who are homeless or at-risk of homelessness. Please make your nominations by February 6\, 2016 at: tinyurl.com/sosnominations Individuals will be awarded at the Brighter Days Gala on April 7th\, 2016 at Longfellows Restaurant.
LOCATION:Longfellows Restaurant\, 500 Union Ave\, Saratoga Springs\, NY 12866
UID:e.2254.13626
SEQUENCE:3
DTSTAMP:20260421T165435Z
URL:https://chamber.saratoga.org/events/details/brighter-days-shelters-of-saratoga-2016-gala-04-07-2016-13626
END:VEVENT

END:VCALENDAR
