BEGIN:VCALENDAR
VERSION:2.0
PRODID:-//ChamberMaster//Event Calendar 2.0//EN
METHOD:PUBLISH
X-PUBLISHED-TTL:P3D
REFRESH-INTERVAL:P3D
CALSCALE:GREGORIAN
BEGIN:VEVENT
DTSTART:20150412T150000Z
DTEND:20150412T160000Z
X-MICROSOFT-CDO-ALLDAYEVENT:FALSE
SUMMARY:Brewery Boot Camp
DESCRIPTION:Brewery Boot Camp with RAW Fitness Saratoga and Shmaltz Brewing Company Taught by RAW Fitness Saratoga owner Jennifer Ricupero\, 14-year AFAA Certified Instructor. This class will be a mix of cardio\, strength\, and flexibility training\; including boxing\, pilates\, yoga\, and more! Please bring your own mat\, towel and water. Sign up at www.RAWFitnessSaratoga.com or contact RAW at 518-810-1728 or Shmaltz at 518-406-5430.
X-ALT-DESC;FMTTYPE=text/html:Brewery Boot Camp with RAW Fitness Saratoga and Shmaltz Brewing Company Taught by RAW Fitness Saratoga owner Jennifer Ricupero\, 14-year AFAA Certified Instructor. This class will be a mix of cardio\, strength\, and flexibility training\; including boxing\, pilates\, yoga\, and more! Please bring your own mat\, towel and water. Sign up at www.RAWFitnessSaratoga.com or contact RAW at 518-810-1728 or Shmaltz at 518-406-5430.
LOCATION:Shmaltz Brewing Company 6 Fairchild Square Clifton Park\, NY
UID:e.2254.7662
SEQUENCE:3
DTSTAMP:20260423T181118Z
URL:https://chamber.saratoga.org/events/details/brewery-boot-camp-04-12-2015-7662
END:VEVENT

END:VCALENDAR
