BEGIN:VCALENDAR
VERSION:2.0
PRODID:-//ChamberMaster//Event Calendar 2.0//EN
METHOD:PUBLISH
X-PUBLISHED-TTL:P3D
REFRESH-INTERVAL:P3D
CALSCALE:GREGORIAN
BEGIN:VEVENT
DTSTART:20161211T133000Z
DTEND:20161211T160000Z
X-MICROSOFT-CDO-ALLDAYEVENT:FALSE
SUMMARY:Breakfast with Santa at the Courtyard Lake George
DESCRIPTION:Please join us from 8:30 am - 11:00 am at the Courtyard Marriott Lake George for Breakfast with Santa! Take photos on Santa's lap\, pin the nose on Rudolph\, and craft your own ornaments! \n\nGuests and hotel associates are encouraged to donate toiletries of any kind to benefit the Lake George Region Women in Need this holiday season. If you would like to participate\, we will be collecting items during this breakfast. \n\nPlease call 518-385-3400 to purchase tickets!
X-ALT-DESC;FMTTYPE=text/html:<p>Please join us from 8:30 am - 11:00 am at the Courtyard Marriott Lake George for Breakfast with Santa!&nbsp\;Take photos on Santa&#39\;s lap\, pin the nose on Rudolph\, and craft your own ornaments!&nbsp\;</p>\n\n<p>Guests and hotel associates are encouraged to donate toiletries of any kind to benefit the Lake George Region Women in Need this holiday season.&nbsp\;If you would like to participate\, we will be collecting items during this breakfast.&nbsp\;</p>\n\n<p>Please call 518-385-3400 to purchase tickets!</p>\n
LOCATION:Courtyard Lake George 365 Canada Street Lake George\, NY 12845
UID:e.2254.21430
SEQUENCE:3
DTSTAMP:20260420T184341Z
URL:https://chamber.saratoga.org/events/details/breakfast-with-santa-at-the-courtyard-lake-george-21430
END:VEVENT

END:VCALENDAR
