BEGIN:VCALENDAR
VERSION:2.0
PRODID:-//ChamberMaster//Event Calendar 2.0//EN
METHOD:PUBLISH
X-PUBLISHED-TTL:P3D
REFRESH-INTERVAL:P3D
CALSCALE:GREGORIAN
BEGIN:VEVENT
DTSTART:20150328T000000Z
DTEND:20150328T013000Z
X-MICROSOFT-CDO-ALLDAYEVENT:FALSE
SUMMARY:Breakbeats Semester Show
DESCRIPTION:Come see Breakbeats in their rendition of The Hunger Games. The performance will include a host of new dances as well as some of the old favorites. In addition\, there will be performances by the Sonneteers\, Rithmos\, 213 Crew\, Stompin' Soles\, Pulse\, and Circus Club. The show is free and open to the public. No tickets required\, first come first serve. 8 p.m.-Filene Recital Hall For more information call 518-580-5000
X-ALT-DESC;FMTTYPE=text/html:Come see Breakbeats in their rendition of The Hunger Games. The performance will include a host of new dances as well as some of the old favorites. In addition\, there will be performances by the Sonneteers\, Rithmos\, 213 Crew\, Stompin&#39\; Soles\, Pulse\, and Circus Club. The show is free and open to the public. No tickets required\, first come first serve. 8 p.m.-Filene Recital Hall For more information call 518-580-5000
LOCATION:Filene Recital Hall\, Skidmore College 815 N Broadway Saratoga Springs\, NY 12866
UID:e.2254.6703
SEQUENCE:3
DTSTAMP:20260423T214013Z
URL:https://chamber.saratoga.org/events/details/breakbeats-semester-show-03-27-2015-6703
END:VEVENT

END:VCALENDAR
