BEGIN:VCALENDAR
VERSION:2.0
PRODID:-//ChamberMaster//Event Calendar 2.0//EN
METHOD:PUBLISH
X-PUBLISHED-TTL:P3D
REFRESH-INTERVAL:P3D
CALSCALE:GREGORIAN
BEGIN:VEVENT
DTSTART:20150329T173000Z
DTEND:20150329T183000Z
X-MICROSOFT-CDO-ALLDAYEVENT:FALSE
SUMMARY:Brandywine: a battle lost\, a nation saved!
DESCRIPTION:On September 11\, 1777\, Pennsylvania's meandering Brandywine Creek and surrounding landscape formed the backdrop of the Revolutionary War's largest battle.  More land\, more men\, and the loss of Philadelphia\, but General Washington's defeat may have contributed to America's independence. Join author Michael C. Harris for a lecture and book signing
X-ALT-DESC;FMTTYPE=text/html:<span style="color: rgb(34\, 34\, 34)\; line-height: 115%\; font-family: Arial\, sans-serif\; font-size: 10pt\;">On September 11\, 1777\, Pennsylvania&#39\;s meandering Brandywine Creek and surrounding landscape formed the backdrop of the Revolutionary War&#39\;s largest battle.&nbsp\; More land\, more men\, and the loss of Philadelphia\, but General Washington&#39\;s defeat may have contributed to America&#39\;s independence.&nbsp\;Join author Michael C. Harris&nbsp\;for a lecture and book signing</span>
LOCATION:Saratoga National Historical Park
UID:e.2254.4896
SEQUENCE:3
DTSTAMP:20260423T225841Z
URL:https://chamber.saratoga.org/events/details/brandywine-a-battle-lost-a-nation-saved-03-29-2015-4896
END:VEVENT

END:VCALENDAR
