BEGIN:VCALENDAR
VERSION:2.0
PRODID:-//ChamberMaster//Event Calendar 2.0//EN
METHOD:PUBLISH
X-PUBLISHED-TTL:P3D
REFRESH-INTERVAL:P3D
CALSCALE:GREGORIAN
BEGIN:VEVENT
DTSTART:20160910T130000Z
DTEND:20160910T200000Z
X-MICROSOFT-CDO-ALLDAYEVENT:FALSE
SUMMARY:Braided-rim Basket for the Tabletop or Wall with Barbara Boughton. #954-0910.
DESCRIPTION:This basket serves equally well as a tabletop display filled with mail or seasonal items\, or as a wall basket\, with an "ear" woven into the back for hanging. The basket is woven in the plain weave method with a solid bottom. It incorporates a "chain weave"\, woven with dyed round reed in a choice of colors. The basket is finished with a braided and scalloped rim\, woven with matching dyed reed. A choice of a ceramic accent embellishes the basket in coordinating colors and a charming theme.\n\n\nNOTE:  Students must be 12 years or older.
X-ALT-DESC;FMTTYPE=text/html:<pre>\n<span style="font-size:12pt"><span style="font-family:arial\,sans-serif"><span style="color:black">This basket serves equally well as a tabletop display filled with mail or seasonal items\, or as a wall basket\, with an &quot\;ear&quot\; woven into the back for hanging. The basket is woven in the plain weave method with a solid bottom. It incorporates a &quot\;chain weave&quot\;\, woven with dyed round reed in a choice of colors. The basket is finished with a braided and scalloped rim\, woven with matching dyed reed. A choice of a ceramic accent embellishes the basket in coordinating colors and a charming theme.</span></span></span></pre>\n\n<pre>\n<strong><span style="font-size:12pt"><span style="font-family:arial\,sans-serif"><span style="color:black">NOTE:&nbsp\; Students must be 12 years or older.</span></span></span></strong></pre>\n
LOCATION:Adirondack Folk School 51 Main Street Lake Luzerne\, NY 12846
UID:e.2254.16405
SEQUENCE:3
DTSTAMP:20260421T022934Z
URL:https://chamber.saratoga.org/events/details/braided-rim-basket-for-the-tabletop-or-wall-with-barbara-boughton-954-0910-09-10-2016-16405
END:VEVENT

END:VCALENDAR
