BEGIN:VCALENDAR
VERSION:2.0
PRODID:-//ChamberMaster//Event Calendar 2.0//EN
METHOD:PUBLISH
X-PUBLISHED-TTL:P3D
REFRESH-INTERVAL:P3D
CALSCALE:GREGORIAN
BEGIN:VEVENT
DTSTART:20150623T230000Z
DTEND:20150624T030000Z
X-MICROSOFT-CDO-ALLDAYEVENT:FALSE
SUMMARY:Boys of Zummer Tour with Fall Out Boy and Wiz Khalifa
DESCRIPTION:Boys of Zummer Tour with Fall Out Boy and Wiz Khalifa\n\n \n\nLineup:Boys Of Zummer Tour With Fall Out Boy And Wiz Khalifa: Fall Out Boy\, Wiz Khalifa\, Hoodie Allen and DJ Drama
X-ALT-DESC;FMTTYPE=text/html:Boys of Zummer Tour with Fall Out Boy and Wiz Khalifa<br />\n&#8203\;<br />\nLineup:Boys Of Zummer Tour With Fall Out Boy And Wiz Khalifa: Fall Out Boy\, Wiz Khalifa\, Hoodie Allen and DJ Drama
LOCATION:Saratoga Performing Arts Center (SPAC)
UID:e.2254.6097
SEQUENCE:3
DTSTAMP:20260423T074028Z
URL:https://chamber.saratoga.org/events/details/boys-of-zummer-tour-with-fall-out-boy-and-wiz-khalifa-06-23-2015-6097
END:VEVENT

END:VCALENDAR
