BEGIN:VCALENDAR
VERSION:2.0
PRODID:-//ChamberMaster//Event Calendar 2.0//EN
METHOD:PUBLISH
X-PUBLISHED-TTL:P3D
REFRESH-INTERVAL:P3D
CALSCALE:GREGORIAN
BEGIN:VEVENT
DTSTART:20150421T210000Z
DTEND:20150422T010000Z
X-MICROSOFT-CDO-ALLDAYEVENT:FALSE
SUMMARY:Bowl For Kids' Sake 2015
DESCRIPTION:Bowl For Kids' Sake is back and our goal is to cut our waiting list in half by matching 100 youth throughout the Capital Region. We would love you to participate and help make a difference in a child's life. Date: April 21st 2015 Locations: Spare Time in Latham or Strike Zone in Saratoga Springs To get the Bowl rolling.... With on-line registration and pledging capabilities\, participation in Bowl For KidsS ake is easier than ever! Visithttp://www.bbbscr.org/bfks15 and see for yourself. You can register your team(s)\; pick a date\, location and time\, and reserve your lane(s). - Let us collect your donations! Encourage your friends\, family and colleagues to donate on line with your individualized page\, no collecting necessary! - Have fun\, and help kids! Teams are asked to raise a minimum of $300 to bowl in the event. Teams can be comprised of 4-5 people. Every dollar you raise will help match more local kids with caring mentors.
X-ALT-DESC;FMTTYPE=text/html:Bowl For Kids&#39\; Sake is back and our goal is to cut our waiting list in half by matching 100 youth throughout the Capital Region. We would love you to participate and help make a difference in a child&#39\;s life. Date: April 21st 2015 Locations: Spare Time in Latham or Strike Zone in Saratoga Springs To get the Bowl rolling.... With on-line registration and pledging capabilities\, participation in Bowl For KidsS&nbsp\;ake is easier than ever! Visithttp://www.bbbscr.org/bfks15 and see for yourself. You can register your team(s)\; pick a date\, location and time\, and reserve your lane(s). - Let us collect your donations! Encourage your friends\, family and colleagues to donate on line with your individualized page\, no collecting necessary! - Have fun\, and help kids! Teams are asked to raise a minimum of $300 to bowl in the event. Teams can be comprised of 4-5 people. Every dollar you raise will help match more local kids with caring mentors.
LOCATION:Spare Time in Latham or Strike Zone in Saratoga Springs
UID:e.2254.6674
SEQUENCE:3
DTSTAMP:20260423T195924Z
URL:https://chamber.saratoga.org/events/details/bowl-for-kids-sake-2015-04-21-2015-6674
END:VEVENT

END:VCALENDAR
