BEGIN:VCALENDAR
VERSION:2.0
PRODID:-//ChamberMaster//Event Calendar 2.0//EN
METHOD:PUBLISH
X-PUBLISHED-TTL:P3D
REFRESH-INTERVAL:P3D
CALSCALE:GREGORIAN
BEGIN:VEVENT
DTSTART:20140803T200000Z
DTEND:20140804T010000Z
X-MICROSOFT-CDO-ALLDAYEVENT:FALSE
SUMMARY:Bow Ties & Bourbon - 08/03/2014
DESCRIPTION:Tie One On for the TRFYou are cordially invited to Bow Ties & Bourbon\, an evening to benefit the Thoroughbred Retirement Foundation. Come enjoy hearty southern cuisine by Hattie's and kick up your heels to the live music of Garland Nelson and Soul Session. Valet parking. Casual chic attire.
X-ALT-DESC;FMTTYPE=text/html:<p>Tie One On for the TRF</p><span style='font-family: "Times New Roman"\,"serif"\; font-size: 12pt\; mso-fareast-font-family: Calibri\; mso-ansi-language: EN-US\; mso-fareast-language: EN-US\; mso-bidi-language: AR-SA\;'>You are cordially invited to Bow Ties &amp\; Bourbon\, an evening to benefit the Thoroughbred Retirement Foundation. Come enjoy hearty southern cuisine by Hattie's and kick up your heels to the live music&nbsp\;of Garland Nelson and&nbsp\;Soul Session. Valet parking. Casual chic attire.</span>
LOCATION:Canfield Casino
UID:e.2254.3255
SEQUENCE:3
DTSTAMP:20260424T172252Z
URL:https://chamber.saratoga.org/events/details/bow-ties-bourbon-08-03-2014-08-03-2014-3255
END:VEVENT

END:VCALENDAR
