BEGIN:VCALENDAR
VERSION:2.0
PRODID:-//ChamberMaster//Event Calendar 2.0//EN
METHOD:PUBLISH
X-PUBLISHED-TTL:P3D
REFRESH-INTERVAL:P3D
CALSCALE:GREGORIAN
BEGIN:VEVENT
DTSTART:20140803T160000Z
DTEND:20140803T173000Z
X-MICROSOFT-CDO-ALLDAYEVENT:FALSE
SUMMARY:Books On Tap- Giancarlo and Sarah Annese - 08/03/2014
DESCRIPTION:Join us for great conversation\, libations\, brewery tours and great food too!BOOKS ON TAP with Giancarlo and Sarah Annese\, authors of  Beer Lover's New York  Moderated discussion and book signing\, beer tasting and brewery tour.\n\nWhen: Sunday\, August 3rd from 2pm - 3:30pm\nWhere: Shmaltz Brewing Company\, 6 Fairchild Square\, Clifton Park\nCost:  Book\, beer tasting and food pairing: $35 per person \nBeer Tasting and Food Pairing: $15 per person \n\nRSVP: by August 3 on Eventbrite or pay at Shmaltz Brewing. \nIf you book ahead\, you'll have a special gift waiting for you at the door! \n\nWhat: Catered by Chef Rachel of The Ruck in Troy - Yum delicious\, noshy food that pairs perfectly with our He'brew hand crafted beers. \n\nJeremy Cowan owner of the Shmaltz Brewing Company and author of Craft Beer Bar Mitzvah will moderate the Annese' about the craft of writing about craft beer.
X-ALT-DESC;FMTTYPE=text/html:<p>Join us for great conversation\, libations\, brewery tours and great food too!</p><p><span class="event-description" style="color: #000000\;"><strong><span style="font-size: 9pt\; font-family: 'Arial'\,'sans-serif'\; mso-fareast-font-family: Calibri\; mso-fareast-theme-font: minor-latin\; mso-ansi-language: EN-US\; mso-fareast-language: EN-US\; mso-bidi-language: AR-SA\;">BOOKS ON TAP</span></strong><span style="font-size: 9pt\; font-family: 'Arial'\,'sans-serif'\; mso-fareast-font-family: Calibri\; mso-fareast-theme-font: minor-latin\; mso-ansi-language: EN-US\; mso-fareast-language: EN-US\; mso-bidi-language: AR-SA\;"> with Giancarlo and Sarah Annese\, authors of&nbsp\; Beer Lover's New York&nbsp\; Moderated discussion and book signing\, beer tasting and brewery tour.<br /><br /><strong><span style="font-family: 'Arial'\,'sans-serif'\;">When: Sunday\, August 3rd from 2pm - 3:30pm</span></strong><strong><br /><strong><span style="font-family: 'Arial'\,'sans-serif'\;">Where:</span></strong></strong> Shmaltz Brewing Company\, 6 Fairchild Square\, Clifton Park<br /><strong><span style="font-family: 'Arial'\,'sans-serif'\;">Cost:</span></strong>&nbsp\; Book\, beer tasting and food pairing: $35 per person <br /></span></span><span class="event-description"><span style="font-size: 9pt\; font-family: 'Arial'\,'sans-serif'\; mso-fareast-font-family: Calibri\; mso-fareast-theme-font: minor-latin\; mso-ansi-language: EN-US\; mso-fareast-language: EN-US\; mso-bidi-language: AR-SA\;">Beer Tasting and Food Pairing: $15 per person&nbsp\;</span></span><span class="event-description"><span style="font-size: 9pt\; font-family: 'Arial'\,'sans-serif'\; mso-fareast-font-family: Calibri\; mso-fareast-theme-font: minor-latin\; mso-ansi-language: EN-US\; mso-fareast-language: EN-US\; mso-bidi-language: AR-SA\;"><br /></span></span></p>\n<p>RSVP: by August 3 on Eventbrite or<span class="event-description"><span style="font-size: 9pt\; font-family: 'Arial'\,'sans-serif'\; mso-fareast-font-family: Calibri\; mso-fareast-theme-font: minor-latin\; mso-ansi-language: EN-US\; mso-fareast-language: EN-US\; mso-bidi-language: AR-SA\;">&nbsp\;</span></span><span class="event-description" style="color: #000000\;"><span style="font-size: 9pt\; font-family: 'Arial'\,'sans-serif'\; mso-fareast-font-family: Calibri\; mso-fareast-theme-font: minor-latin\; mso-ansi-language: EN-US\; mso-fareast-language: EN-US\; mso-bidi-language: AR-SA\;">pay at Shmaltz Brewing. <br /><em><span style="font-family: 'Arial'\,'sans-serif'\;">If you book ahead\, you'll have a special gift waiting for you at the door!</span></em> <br /><br /><strong><span style="font-family: 'Arial'\,'sans-serif'\;">What:</span></strong> Catered by Chef Rachel of <a href="http://cts.vresp.com/c/?ShmaltzBrewingCo./ab4e221e4a/b024067465/f9d43e2ac6"><span style="color: #000000\;">The Ruck</span></a> in Troy - Yum delicious\, noshy food that pairs perfectly with our <a href="http://cts.vresp.com/c/?ShmaltzBrewingCo./ab4e221e4a/b024067465/b597edd7a4"><span style="color: #000000\;">He'brew hand crafted beers</span></a>. <br /><br />Jeremy Cowan owner of the <a href="http://cts.vresp.com/c/?ShmaltzBrewingCo./ab4e221e4a/b024067465/6152636ccb"><span style="color: #000000\;">Shmaltz Brewing Company </span></a>and author of <a href="http://cts.vresp.com/c/?ShmaltzBrewingCo./ab4e221e4a/b024067465/0284e2e197"><span style="color: #000000\;">Craft Beer Bar Mitzvah</span></a> will moderate the Annese' about the craft of writing about craft beer. </span></span></p>
LOCATION:Shmaltz Brewing Company
UID:e.2254.3478
SEQUENCE:3
DTSTAMP:20260424T160116Z
URL:https://chamber.saratoga.org/events/details/books-on-tap-giancarlo-and-sarah-annese-08-03-2014-08-03-2014-3478
END:VEVENT

END:VCALENDAR
