BEGIN:VCALENDAR
VERSION:2.0
PRODID:-//ChamberMaster//Event Calendar 2.0//EN
METHOD:PUBLISH
X-PUBLISHED-TTL:P3D
REFRESH-INTERVAL:P3D
CALSCALE:GREGORIAN
BEGIN:VEVENT
DTSTART:20160206T230000Z
DTEND:20160207T010000Z
X-MICROSOFT-CDO-ALLDAYEVENT:FALSE
SUMMARY:Book Signing & Launch Party
DESCRIPTION:*Spoiler Alert* Author and Shaman\, Laurie Bonser concludes her latest book "The Law of Attraction Meets Financial Stewardship" with the words "May The Force Be With You". Join us for a fun-filled Star Wars themed book signing and launch party 6pm\, Saturday February 6 at Northshire Bookstore\, 424 Broadway\, Saratoga Springs. The Force Awakens . . . and finds a new bridge! The presentation begins with Laurie sharing inspirational thoughts behind what motivated her to write this book followed by a Q&A. Refreshments will be served. Please RSVP by February 1 (so we can be sure to have enough goodies!) - Laurie@ChangingTimesPlanning.com We can't wait to see you there! "Do or do not. There is no try. " - Yoda
X-ALT-DESC;FMTTYPE=text/html:*Spoiler Alert* Author and Shaman\, Laurie Bonser concludes her latest book &quot\;The Law of Attraction Meets Financial Stewardship&quot\; with the words &quot\;May The Force Be With You&quot\;. Join us for a fun-filled Star Wars themed book signing and launch party 6pm\, Saturday February 6 at Northshire Bookstore\, 424 Broadway\, Saratoga Springs. The Force Awakens . . . and finds a new bridge! The presentation begins with Laurie sharing inspirational thoughts behind what motivated her to write this book followed by a Q&amp\;A. Refreshments will be served. Please RSVP by February 1 (so we can be sure to have enough goodies!) - Laurie@ChangingTimesPlanning.com We can&#39\;t wait to see you there! &quot\;Do or do not. There is no try.&nbsp\;&quot\; -&nbsp\;Yoda
LOCATION:Northshire Bookstore 424 Broadway Saratoga Springs\, NY
UID:e.2254.14276
SEQUENCE:3
DTSTAMP:20260422T022431Z
URL:https://chamber.saratoga.org/events/details/book-signing-launch-party-02-06-2016-14276
END:VEVENT

END:VCALENDAR
