BEGIN:VCALENDAR
VERSION:2.0
PRODID:-//ChamberMaster//Event Calendar 2.0//EN
METHOD:PUBLISH
X-PUBLISHED-TTL:P3D
REFRESH-INTERVAL:P3D
CALSCALE:GREGORIAN
BEGIN:VEVENT
DTSTART:20140808T190000Z
DTEND:20140810T180000Z
X-MICROSOFT-CDO-ALLDAYEVENT:FALSE
SUMMARY:Book Sale at the Round Lake Auditorium - 08/08/2014
DESCRIPTION:August 8 from 5pm to 8pm. Sale continues on Saturday\, August 9 from 9 to 5 and Sunday\, August 10 from 9 to 4.15000 Books. Preview Sale on Friday \, August 8 from 5pm to 8pm. Sale continues on Saturday\, August 9 from 9 to 5 and Sunday\, August 10 from 9 to 4. Proceeds benefit the Round Lake Library. Call 899 2733 for information
X-ALT-DESC;FMTTYPE=text/html:<p>August 8 from 5pm to 8pm. Sale continues on Saturday\, August 9 from 9 to 5 and Sunday\, August 10 from 9 to 4.</p><p><span style="font-size: 12pt\; font-family: 'Calibri'\,'sans-serif'\; mso-fareast-font-family: Calibri\; mso-fareast-theme-font: minor-latin\; mso-bidi-font-family: 'Times New Roman'\; mso-ansi-language: EN-US\; mso-fareast-language: EN-US\; mso-bidi-language: AR-SA\;"><span style="font-size: 12pt\; font-family: 'Calibri'\,'sans-serif'\; mso-fareast-font-family: Calibri\; mso-fareast-theme-font: minor-latin\; mso-bidi-font-family: 'Times New Roman'\; mso-ansi-language: EN-US\; mso-fareast-language: EN-US\; mso-bidi-language: AR-SA\;">15000 Books. Preview Sale on Friday \, August 8 from 5pm to 8pm. Sale continues on Saturday\, August 9 from 9 to 5 and Sunday\, August 10 from 9 to 4. Proceeds benefit the Round Lake Library. Call 899 2733 for information</span></span></p>
LOCATION:Round Lake Auditorium
UID:e.2254.3469
SEQUENCE:3
DTSTAMP:20260424T160116Z
URL:https://chamber.saratoga.org/events/details/book-sale-at-the-round-lake-auditorium-08-08-2014-08-08-2014-3469
END:VEVENT

END:VCALENDAR
