BEGIN:VCALENDAR
VERSION:2.0
PRODID:-//ChamberMaster//Event Calendar 2.0//EN
METHOD:PUBLISH
X-PUBLISHED-TTL:P3D
REFRESH-INTERVAL:P3D
CALSCALE:GREGORIAN
BEGIN:VEVENT
DTSTART:20150711T140000Z
DTEND:20150711T180000Z
X-MICROSOFT-CDO-ALLDAYEVENT:FALSE
SUMMARY:BMW Vintage at Saratoga
DESCRIPTION:BMW Vintage Auto Show.\nThe sixth annual Vintage at Saratoga will once again be held on the grounds of the Saratoga Automobile Museum on July 10\,11\, and 12\, 2015. Vintage at Saratoga is open to all BMWs built in or before 1999 and we also invite all E 36 generation cars to join us.
X-ALT-DESC;FMTTYPE=text/html:<p>BMW Vintage Auto Show.</p>\nThe sixth annual Vintage at Saratoga will once again be held on the grounds of the Saratoga Automobile Museum on July 10\,11\, and 12\, 2015. Vintage at Saratoga is open to all BMWs built in or before 1999 and we also invite all E 36 generation cars to join us.&nbsp\;&nbsp\;
LOCATION:Saratoga Automobile Museum 110 Avenue of the Pines Saratoga Spring
UID:e.2254.4161
SEQUENCE:3
DTSTAMP:20260423T041318Z
URL:https://chamber.saratoga.org/events/details/bmw-vintage-at-saratoga-07-11-2015-4161
END:VEVENT

END:VCALENDAR
