BEGIN:VCALENDAR
VERSION:2.0
PRODID:-//ChamberMaster//Event Calendar 2.0//EN
METHOD:PUBLISH
X-PUBLISHED-TTL:P3D
REFRESH-INTERVAL:P3D
CALSCALE:GREGORIAN
BEGIN:VEVENT
DTSTART:20160323T230000Z
DTEND:20160324T013000Z
X-MICROSOFT-CDO-ALLDAYEVENT:FALSE
SUMMARY:Blues Open Mic & Jam
DESCRIPTION:NYS Blues Hall of Fame Inductee\, Sonny Speed will be hosting this event for SABS Featured Artists: Tas Cru & Mary Ann Casale\, coming in from Watertown NY to play the Blues. Tas Cru is an internationally acclaimed Blues performer and recording artist\, and he has joined up with Ms. Casale\, who is also making a great name for herself in Blues circles. Acoustic Jam to follow. All levels of playing are welcome. - 4th Wednesday of every month. Come on down to listen and play the Blues! 7:00 for signups\; 7:30 show starts
X-ALT-DESC;FMTTYPE=text/html:NYS Blues Hall of Fame Inductee\, Sonny Speed will be hosting this event for SABS Featured Artists: Tas Cru &amp\; Mary Ann Casale\, coming in from Watertown NY to play the Blues. Tas Cru is an internationally acclaimed Blues performer and recording artist\, and he has joined up with Ms. Casale\, who is also making a great name for herself in Blues circles. Acoustic Jam to follow. All levels of playing are welcome. - 4th Wednesday of every month. Come on down to listen and play the Blues! 7:00 for signups\; 7:30 show starts
LOCATION:Caf Lena - 43 Phila Street\, Saratoga Springs
UID:e.2254.15023
SEQUENCE:3
DTSTAMP:20260422T003037Z
URL:https://chamber.saratoga.org/events/details/blues-open-mic-jam-03-23-2016-15023
END:VEVENT

END:VCALENDAR
