BEGIN:VCALENDAR
VERSION:2.0
PRODID:-//ChamberMaster//Event Calendar 2.0//EN
METHOD:PUBLISH
X-PUBLISHED-TTL:P3D
REFRESH-INTERVAL:P3D
CALSCALE:GREGORIAN
BEGIN:VEVENT
DTSTART:20160326T123000Z
DTEND:20160326T153000Z
X-MICROSOFT-CDO-ALLDAYEVENT:FALSE
SUMMARY:Blue Needs You 8K Run
DESCRIPTION:The Blue Needs You 8K Run\, presented by Fingerpaint\, is a community celebration of Code Blue Saratoga\, a regional organization providing temporary respite for individuals experiencing homelessness during hazardous winter weather. Join us March 26\, 2016\, 8:30 a.m. at High Rock Park\, Saratoga Springs\, NY. The event includes: 8K Competitive Run (USATF Certified)- $30 early registration/$35 late 400 meter Kids Fun Run - free Race Day Cheer Squad - Support friends and family by participating in the Cheer Squad! A $10 donation gets you a Cheer Squad tee and helps us raise critical funds for Code Blue Saratoga. As a participant you have the opportunity to make a difference in the lives of individuals who are living on the streets. We hope you will join us this year and that you'll Run for Blue.
X-ALT-DESC;FMTTYPE=text/html:The Blue Needs You 8K Run\, presented by Fingerpaint\, is a community celebration of Code Blue Saratoga\, a regional organization providing temporary respite for individuals experiencing homelessness during hazardous winter weather. Join us March 26\, 2016\, 8:30 a.m. at High Rock Park\, Saratoga Springs\, NY. The event includes: 8K Competitive Run (USATF Certified)- $30 early registration/$35 late 400 meter Kids Fun Run - free Race Day Cheer Squad&nbsp\;- Support friends and family by participating in the Cheer Squad! A $10 donation gets you a Cheer Squad tee and helps us raise critical funds for Code Blue Saratoga. As a participant you have the opportunity to make a difference in the lives of individuals who are living on the streets. We hope you will join us this year and that you&#39\;ll Run for Blue.
LOCATION:High Rock Park\, Saratoga Springs
UID:e.2254.13548
SEQUENCE:3
DTSTAMP:20260422T003401Z
URL:https://chamber.saratoga.org/events/details/blue-needs-you-8k-run-03-26-2016-13548
END:VEVENT

END:VCALENDAR
