BEGIN:VCALENDAR
VERSION:2.0
PRODID:-//ChamberMaster//Event Calendar 2.0//EN
METHOD:PUBLISH
X-PUBLISHED-TTL:P3D
REFRESH-INTERVAL:P3D
CALSCALE:GREGORIAN
BEGIN:VEVENT
DTSTART:20150424T210000Z
DTEND:20150424T233000Z
X-MICROSOFT-CDO-ALLDAYEVENT:FALSE
SUMMARY:Blast Off into Space!
DESCRIPTION:The Children's Museum at Saratoga is excited to announce that pre-registration is now open for their newest Private VIP Party event\, Blast off into Space! Friday\, April 24 th from 5:00 pm to 7:30 pm the museum will provide An Out of this World Event\, where children and their caretakers can enjoy a special pizza party and be an astronaut for one starry\, starry night! Explore the solar system and the universe in the museum exhibits and enjoy photo opportunities. There are so many fun and educational outer space themed crafts and activities planned.  Event is $25 per child and $20 for members of The Children's Museum. Pre-registration is required. Please call the museum at (518) 584-5540 to pre-register.
X-ALT-DESC;FMTTYPE=text/html:The Children&#39\;s Museum at Saratoga is excited to announce that pre-registration is now open for their newest Private VIP Party event\, Blast off into Space! Friday\, April 24 th from 5:00 pm to 7:30 pm the museum will provide An Out of this World Event\, where children and their caretakers can enjoy a special pizza party and be an astronaut for one starry\, starry night! Explore the solar system and the universe in the museum exhibits and enjoy photo opportunities. There are so many fun and educational outer space themed crafts and activities planned. &nbsp\;Event is $25 per child and $20 for members of The Children&#39\;s Museum. Pre-registration is required. Please call the museum at (518) 584-5540 to pre-register.
LOCATION:The Children's Museum at Saratoga
UID:e.2254.7756
SEQUENCE:3
DTSTAMP:20260423T180733Z
URL:https://chamber.saratoga.org/events/details/blast-off-into-space-04-24-2015-7756
END:VEVENT

END:VCALENDAR
