BEGIN:VCALENDAR
VERSION:2.0
PRODID:-//ChamberMaster//Event Calendar 2.0//EN
METHOD:PUBLISH
X-PUBLISHED-TTL:P3D
REFRESH-INTERVAL:P3D
CALSCALE:GREGORIAN
BEGIN:VEVENT
DTSTART:20160521T130000Z
DTEND:20160522T200000Z
X-MICROSOFT-CDO-ALLDAYEVENT:FALSE
SUMMARY:Blacksmithing - Wall Shelf with David Woodward. #990-0521. 2 days. May 21&22
DESCRIPTION:In this class students will be forging an Adirondack shelf with pine tree finials. The class will explore various cross peens and how they can be used for texturing and creating an attractive finish. Skills which will be utilized are forge welding\, twisting\, hot punching and hot cutting. Some prior forging and forge welding experience is necessary.\n\n\nNOTE:  Hard shoes and long pants are required for student's safety.
X-ALT-DESC;FMTTYPE=text/html:<pre>\n<span style="font-size:12pt"><span style="font-family:arial\,sans-serif"><span style="color:black">In this class students will be forging an Adirondack shelf with pine tree finials. The class will explore various cross peens and how they can be used for texturing and creating an attractive finish. Skills which will be utilized are forge welding\, twisting\, hot punching and hot cutting. Some prior forging and forge welding experience is necessary.</span></span></span></pre>\n\n<pre>\n<strong><span style="font-size:12pt"><span style="font-family:arial\,sans-serif"><span style="color:black">NOTE:&nbsp\; Hard shoes and long pants are required for student&#39\;s safety.</span></span></span></strong></pre>\n
LOCATION:Adirondack Folk School 51 Main Street Lake Luzerne\, NY 12846
UID:e.2254.15594
SEQUENCE:3
DTSTAMP:20260421T160720Z
URL:https://chamber.saratoga.org/events/details/blacksmithing-wall-shelf-with-david-woodward-990-0521-2-days-may-21-22-05-21-2016-15594
END:VEVENT

END:VCALENDAR
