BEGIN:VCALENDAR
VERSION:2.0
PRODID:-//ChamberMaster//Event Calendar 2.0//EN
METHOD:PUBLISH
X-PUBLISHED-TTL:P3D
REFRESH-INTERVAL:P3D
CALSCALE:GREGORIAN
BEGIN:VEVENT
DTSTART:20160716T130000Z
DTEND:20160717T200000Z
X-MICROSOFT-CDO-ALLDAYEVENT:FALSE
SUMMARY:Blacksmithing - Finials and Twists with Jorden Maura. #970-0716. 2 days\, July 16&17
DESCRIPTION:Forge some flair into your smith work! In this two-part class we will explore several different kinds of twists and finials with which to embellish our iron. Starting with the most basic smith's twist and fishtail scroll\, students will move through ever more difficult and artful ornamentation\, capping off their work with the rubik's twist and leaf finial. The business aspect of incorporating these motifs into "sale-able" items will also be explored. In the end\, everyone will go home with some fun decor!\n\n\n NOTE:  Hard shoes and long pants are required for student's safety.
X-ALT-DESC;FMTTYPE=text/html:<pre>\n<span style="color:black\; font-family:arial\,sans-serif\; font-size:12pt">Forge some flair into your smith work! In this two-part class we will explore several different kinds of twists and finials with which to embellish our iron. Starting with the most basic smith&#39\;s twist and fishtail scroll\, students will move through ever more difficult and artful ornamentation\, capping off their work with the rubik&#39\;s twist and leaf finial. The business aspect of incorporating these motifs into &quot\;sale-able&quot\; items will also be explored. In the end\, everyone will go home with some fun decor!</span></pre>\n\n<pre>\n<span style="font-family:arial\,sans-serif">&nbsp\;</span><strong><span style="color:black\; font-family:arial\,sans-serif\; font-size:12pt">NOTE:&nbsp\; Hard shoes and long pants are required for student&#39\;s safety.</span></strong></pre>\n
LOCATION:Adirondack Folk School 51 Main Street Lake Luzerne\, NY 12846
UID:e.2254.15628
SEQUENCE:3
DTSTAMP:20260421T051333Z
URL:https://chamber.saratoga.org/events/details/blacksmithing-finials-and-twists-with-jorden-maura-970-0716-2-days-july-16-17-07-16-2016-15628
END:VEVENT

END:VCALENDAR
