BEGIN:VCALENDAR
VERSION:2.0
PRODID:-//ChamberMaster//Event Calendar 2.0//EN
METHOD:PUBLISH
X-PUBLISHED-TTL:P3D
REFRESH-INTERVAL:P3D
CALSCALE:GREGORIAN
BEGIN:VEVENT
DTSTART:20160723T130000Z
DTEND:20160724T200000Z
X-MICROSOFT-CDO-ALLDAYEVENT:FALSE
SUMMARY:Blacksmithing: Filing Vise with Derek Heidemann. #967-0723. 2 Days\, July 23&24.
DESCRIPTION:Any smith who does a lot of filing understands that a conventional vise doesn't always hold the work the way they need it to. Filing vises allow the work to be held at the offset angles needed for those awkward filing and even riveting applications. This class will teach you how to make your own filing vise.\n\n\nNOTE:  Hard shoes and long pants are required for student's safety.
X-ALT-DESC;FMTTYPE=text/html:<pre>\n<span style="font-size:12pt"><span style="font-family:arial\,sans-serif"><span style="color:black">Any smith who does a lot of filing understands that a conventional vise doesn&#39\;t always hold the work the way they need it to. Filing vises allow the work to be held at the offset angles needed for those awkward filing and even riveting applications. This class will teach you how to make your own filing vise.</span></span></span></pre>\n\n<pre>\n<strong><span style="font-size:12pt"><span style="font-family:arial\,sans-serif"><span style="color:black">NOTE:&nbsp\; Hard shoes and long pants are required for student&#39\;s safety.</span></span></span></strong></pre>\n
LOCATION:Adirondack Folk School 51 Main Street Lake Luzerne\, NY 12846
UID:e.2254.15639
SEQUENCE:3
DTSTAMP:20260421T050538Z
URL:https://chamber.saratoga.org/events/details/blacksmithing-filing-vise-with-derek-heidemann-967-0723-2-days-july-23-24-07-23-2016-15639
END:VEVENT

END:VCALENDAR
