BEGIN:VCALENDAR
VERSION:2.0
PRODID:-//ChamberMaster//Event Calendar 2.0//EN
METHOD:PUBLISH
X-PUBLISHED-TTL:P3D
REFRESH-INTERVAL:P3D
CALSCALE:GREGORIAN
BEGIN:VEVENT
DTSTART:20160423T130000Z
DTEND:20160424T200000Z
X-MICROSOFT-CDO-ALLDAYEVENT:FALSE
SUMMARY:Blacksmith's Helper with Derek Heidemann. #966-0423. 2 days\, April 23 & 24.
DESCRIPTION:Whether trying to support a long piece of iron in the forge or on the anvil\, the blacksmith's helper is an invaluable tool for the smith. The class will take you through making your own blacksmith's helper over the course of two days.\n\n\nNOTE:  Hard shoes and long pants are required for student's safety.
X-ALT-DESC;FMTTYPE=text/html:<pre>\n<span style="font-size:12pt"><span style="font-family:arial\,sans-serif"><span style="color:black">Whether trying to support a long piece of iron in the forge or on the anvil\, the blacksmith&#39\;s helper is an invaluable tool for the smith. The class will take you through making your own blacksmith&#39\;s helper over the course of two days.</span></span></span></pre>\n\n<pre>\n<strong><span style="font-size:12pt"><span style="font-family:arial\,sans-serif"><span style="color:black">NOTE:&nbsp\; Hard shoes and long pants are required for student&#39\;s safety.</span></span></span></strong></pre>\n
LOCATION:Adirondack Folk School 51 Main Street Lake Luzerne\, NY 12846 (518) 696-2400
UID:e.2254.15402
SEQUENCE:3
DTSTAMP:20260421T164033Z
URL:https://chamber.saratoga.org/events/details/blacksmith-s-helper-with-derek-heidemann-966-0423-2-days-april-23-24-04-23-2016-15402
END:VEVENT

END:VCALENDAR
