BEGIN:VCALENDAR
VERSION:2.0
PRODID:-//ChamberMaster//Event Calendar 2.0//EN
METHOD:PUBLISH
X-PUBLISHED-TTL:P3D
REFRESH-INTERVAL:P3D
CALSCALE:GREGORIAN
BEGIN:VEVENT
DTSTART:20160423T130000Z
DTEND:20160424T200000Z
X-MICROSOFT-CDO-ALLDAYEVENT:FALSE
SUMMARY:Blacksmith's Helper with Derek Heidemann. #966-0423. 2 days.
DESCRIPTION:Whether trying to support a long piece of iron in the forge or on the anvil\, the blacksmith's helper is an invaluable tool for the smith. The class will take you through making your own blacksmith's helper over the course of two days. NOTE: Hard shoes and long pants are required for student's safety.
X-ALT-DESC;FMTTYPE=text/html:Whether trying to support a long piece of iron in the forge or on the anvil\, the blacksmith&#39\;s helper is an invaluable tool for the smith. The class will take you through making your own blacksmith&#39\;s helper over the course of two days. NOTE: Hard shoes and long pants are required for student&#39\;s safety.
LOCATION:Adirondack Folk School\, 51 Main Street\, Lake Luzerne\, NY 12846
UID:e.2254.15004
SEQUENCE:3
DTSTAMP:20260421T163757Z
URL:https://chamber.saratoga.org/events/details/blacksmith-s-helper-with-derek-heidemann-966-0423-2-days-04-23-2016-15004
END:VEVENT

END:VCALENDAR
