BEGIN:VCALENDAR
VERSION:2.0
PRODID:-//ChamberMaster//Event Calendar 2.0//EN
METHOD:PUBLISH
X-PUBLISHED-TTL:P3D
REFRESH-INTERVAL:P3D
CALSCALE:GREGORIAN
BEGIN:VEVENT
DTSTART;VALUE=DATE:20161125
DTEND;VALUE=DATE:20161126
TRANSP:TRANSPARENT
X-MICROSOFT-CDO-ALLDAYEVENT:TRUE
SUMMARY:Black Friday Saratoga
DESCRIPTION:Black Friday Saratoga is an annual downtown shopping event that encourages supporting local businesses on Black Friday.  The event includes over a dozen shops and boutiques who are opening at 6am and earlier on November 25th and offering discounts of at least 50% on select items from 6am-7am\, 40% from 7am to 8am\, 30% from 8am to 9am and 20% through the end of day.   Early morning shoppers will receive a Black Friday Shopping bag filled with menus and incentives from downtown restaurants and event sponsors.  Shelters of Saratoga will be offering gift wrapping at their "Wrap for Charity" location in the lobby of the Arcade Building at 376 Broadway.  Check back in the days to come at http://blackfridaysaratoga.com/ for participating stores and offers
X-ALT-DESC;FMTTYPE=text/html:<span style="font-size: 11pt\;"><span style="font-family: calibri\,sans-serif\;">Black Friday Saratoga is an annual downtown shopping event that encourages supporting local businesses on Black Friday.&nbsp\; The event includes over a dozen shops and boutiques who are opening at 6am and earlier on November 25<sup>th</sup> and offering discounts of at least 50% on select items from 6am-7am\, 40% from 7am to 8am\, 30% from 8am to 9am and 20% through the end of day.&nbsp\;&nbsp\; Early morning shoppers will receive a Black Friday Shopping bag filled with menus and incentives from downtown restaurants and event sponsors.&nbsp\; Shelters of Saratoga will be offering gift wrapping at their &ldquo\;Wrap for Charity&rdquo\; location in the lobby of the Arcade Building at 376 Broadway.&nbsp\; Check back in the days to come at http://blackfridaysaratoga.com/ for participating stores and offers</span></span>
LOCATION:Downtown Saratoga Springs
UID:e.2254.21230
SEQUENCE:3
DTSTAMP:20260420T201512Z
URL:https://chamber.saratoga.org/events/details/black-friday-saratoga-21230
END:VEVENT

END:VCALENDAR
