BEGIN:VCALENDAR
VERSION:2.0
PRODID:-//ChamberMaster//Event Calendar 2.0//EN
METHOD:PUBLISH
X-PUBLISHED-TTL:P3D
REFRESH-INTERVAL:P3D
CALSCALE:GREGORIAN
BEGIN:VEVENT
DTSTART:20161125T210000Z
DTEND:20161126T010000Z
X-MICROSOFT-CDO-ALLDAYEVENT:FALSE
SUMMARY:Black Friday Black Beer Fest
DESCRIPTION:Black Friday is around the corner and we're celebrating with our 4th Annual Black Friday Black Beer Fest! We're hosting breweries from around the area to pour some of their darkest beers for you to enjoy from 4-8 PM on 11/25. It wouldn't be Black Friday without some shopping so we'll be hosting vendors to sell some awesome merchandise and we invite all breweries to bring some of their fun merchandise to sell as well! Charcol Dole will be serving up some of our BBQ favorites all evening. A $25 ticket gets you 6 drink tokens\,a bottle of Rejewvenator '14\, and 20% off beer to go.\n\n\n\nWe'll also be rolling out our BRAND NEW loyalty program\, A Tribe Called Shmaltz! This exclusive loyalty program will be your perfect for anyone who is a regular at the brewery\, or wants to become more involved in the Shmaltz crew. Stay tuned for more Tribe Called Shmaltz information!\n\n\n\nAlso in attendance will be local breweries and vendors such as Empire Brewing Company\, Rare Form Brewing Company\, Adirondack Brewery\, Wolf Hollow Brewing Company\, Wired Coffee\, and Buckingham Confectionary.
X-ALT-DESC;FMTTYPE=text/html:<span style="color: rgb(75\, 79\, 86)\; font-family: helvetica\,arial\,sans-serif\; font-size: 14px\;">Black Friday is around the corner and we&#39\;re celebrating with our 4th Annual Black Friday Black Beer Fest! We&#39\;re hosting breweries from around the area to pour some of their darkest beers for you to enjoy from 4-8 PM on 11/25. It wouldn&#39\;t be Black Friday without some shopping so we&#39\;ll be hosting vendors to sell some awesome merchandise and we invite all breweries to bring some of their fun merchandise to sell as well! Charcol Dole will be serving up some of our BBQ favorites all evening. A $25 ticket gets you 6 drink tokens\,a bottle of Rejewvenator &#39\;14\, and 20% off beer to go.</span><br />\n<br />\n<span style="color: rgb(75\, 79\, 86)\; font-family: helvetica\,arial\,sans-serif\; font-size: 14px\;">We&#39\;ll also be rolling out our BRAND NEW loyalty program\, A Tribe Called Shmaltz! This exclusive loyalty program will be your perfect for</span><span style="color: rgb(75\, 79\, 86)\; font-family: helvetica\,arial\,sans-serif\; font-size: 14px\;">&nbsp\;anyone who is a regular at the brewery\, or wants to become more involved in the Shmaltz crew. Stay tuned for more Tribe Called Shmaltz information!<br />\n<br />\nAlso in attendance will be local breweries and vendors such as Empire Brewing Company\, Rare Form Brewing Company\, Adirondack Brewery\, Wolf Hollow Brewing Company\, Wired Coffee\, and Buckingham Confectionary.</span>
LOCATION:Shmaltz Breing Company 6 Fairchild Square Clifton Park\, NY 12065
UID:e.2254.21177
SEQUENCE:3
DTSTAMP:20260420T200641Z
URL:https://chamber.saratoga.org/events/details/black-friday-black-beer-fest-21177
END:VEVENT

END:VCALENDAR
