BEGIN:VCALENDAR
VERSION:2.0
PRODID:-//ChamberMaster//Event Calendar 2.0//EN
METHOD:PUBLISH
X-PUBLISHED-TTL:P3D
REFRESH-INTERVAL:P3D
CALSCALE:GREGORIAN
BEGIN:VEVENT
DTSTART:20150620T140000Z
DTEND:20150620T153000Z
X-MICROSOFT-CDO-ALLDAYEVENT:FALSE
SUMMARY:Birding and Nature Walk
DESCRIPTION:Join park naturalist Linda White\, meeting by the flag pole at the visitor center parking lot to caravan to special places in the park and see blooming flowers\, plants\, and migratory birds. Please bring water and insect repellent and wear sturdy shoes. Event cancelled if raining.
X-ALT-DESC;FMTTYPE=text/html:Join park naturalist Linda White\, meeting by the flag pole at the visitor center parking lot to caravan to special places in the park and see blooming flowers\, plants\, and migratory birds. Please bring water and insect repellent and wear sturdy shoes. Event cancelled if raining.
LOCATION:Saratoga Battlefield Saratoga National Historical Park
UID:e.2254.6167
SEQUENCE:3
DTSTAMP:20260423T072657Z
URL:https://chamber.saratoga.org/events/details/birding-and-nature-walk-06-20-2015-6167
END:VEVENT

END:VCALENDAR
