BEGIN:VCALENDAR
VERSION:2.0
PRODID:-//ChamberMaster//Event Calendar 2.0//EN
METHOD:PUBLISH
X-PUBLISHED-TTL:P3D
REFRESH-INTERVAL:P3D
CALSCALE:GREGORIAN
BEGIN:VEVENT
DTSTART:20160827T130000Z
DTEND:20160828T200000Z
X-MICROSOFT-CDO-ALLDAYEVENT:FALSE
SUMMARY:Birch Bark Picture Frames and Mirrors with Jim Schreiner. #861-0828. 2 days\, August 27&28.
DESCRIPTION:Birch bark picture frames and mirrors have adorned Adirondack camps and cabins for centuries and were a favorite winter project for the guides to make. This is a great class for beginners with limited experience with woodworking and tools. You will select a frame and learn how to cut and fasten the Birch bark\, twigs\, and other natural objects to create your own "masterpiece". Come see why this is one of our most popular classes. You'll be proud to hang this in your home!
X-ALT-DESC;FMTTYPE=text/html:<pre>\n<span style="font-size:12pt"><span style="font-family:arial\,sans-serif"><span style="color:black">Birch bark picture frames and mirrors have adorned Adirondack camps and cabins for centuries and were a favorite winter project for the guides to make. This is a great class for beginners with limited experience with woodworking and tools. You will select a frame and learn how to cut and fasten the Birch bark\, twigs\, and other natural objects to create your own &ldquo\;masterpiece&rdquo\;. Come see why this is one of our most popular classes. You&#39\;ll be proud to hang this in your home!</span></span></span></pre>\n
LOCATION:Adirondack Folk School 51 Main Street Lake Luzerne\, NY 12846
UID:e.2254.16118
SEQUENCE:3
DTSTAMP:20260421T003742Z
URL:https://chamber.saratoga.org/events/details/birch-bark-picture-frames-and-mirrors-with-jim-schreiner-861-0828-2-days-august-27-28-08-27-2016-16118
END:VEVENT

END:VCALENDAR
