BEGIN:VCALENDAR
VERSION:2.0
PRODID:-//ChamberMaster//Event Calendar 2.0//EN
METHOD:PUBLISH
X-PUBLISHED-TTL:P3D
REFRESH-INTERVAL:P3D
CALSCALE:GREGORIAN
BEGIN:VEVENT
DTSTART:20140802T120000Z
DTEND:20140802T160000Z
X-MICROSOFT-CDO-ALLDAYEVENT:FALSE
SUMMARY:Big Truck Day - 08/02/2014
DESCRIPTION:Big Truck Day is one of The Children’s Museum at Saratoga’s primary fundraisers\, which allows the museum to offer quality programs and learning opportunities to families throughout the capital region and beyond! This fun event will feature trucks of all shapes and sizes for children to tour. There will also be a bounce house\, food vendors\, and tons of activities for the whole family including Mr. Twisty with his famous balloons and Go Kids with a fun obstacle course! Held at the Maple Avenue Middle School located at 515 Maple Avenue in Saratoga.   Pre-sale tickets are now on sale! Jump ahead of the line at the event by getting your Pre-sale Big Truck Day tickets today! Simply visit the museum’s website at http://cmssny.org/events/big-truck-day/ to order online or stop in the museum and inquire at the front desk. The Children’s Museum looks forward to seeing you there! Rain Date: Saturday\, August 9th.
X-ALT-DESC;FMTTYPE=text/html:<p>Big Truck Day is one of The Children’s Museum at Saratoga’s primary fundraisers\, which allows the museum to offer quality programs and learning opportunities to families throughout the capital region and beyond! </p><p><span style="font-size: 12pt\; font-family: Gotham Rounded Book\;">This fun event will feature trucks of all shapes and sizes for children to tour. There will also be a bounce house\, food vendors\, and tons of activities for the whole family including Mr. Twisty with his famous balloons and Go Kids with a fun obstacle course! Held at the Maple Avenue Middle School located at 515 Maple Avenue in Saratoga. </span> </p> <p><span style="font-size: 12pt\; font-family: Gotham Rounded Book\;">Pre-sale tickets are now on sale! Jump ahead of the line at the event by getting your Pre-sale Big Truck Day tickets today! Simply visit the museum’s website at </span><a href="http://cmssny.org/events/big-truck-day/"><span style="font-size: 12pt\; font-family: Gotham Rounded Book\;">http://cmssny.org/events/big-truck-day/</span></a><span style="font-size: 12pt\; font-family: Gotham Rounded Book\;"> to order online or stop in the museum and inquire at the front desk. The Children’s Museum looks forward to seeing you there! Rain Date: Saturday\, August 9<sup>th</sup>.</span></p>
LOCATION:Maple Avenue Middle School
UID:e.2254.3427
SEQUENCE:3
DTSTAMP:20260424T140152Z
URL:https://chamber.saratoga.org/events/details/big-truck-day-08-02-2014-08-02-2014-3427
END:VEVENT

END:VCALENDAR
