BEGIN:VCALENDAR
VERSION:2.0
PRODID:-//ChamberMaster//Event Calendar 2.0//EN
METHOD:PUBLISH
X-PUBLISHED-TTL:P3D
REFRESH-INTERVAL:P3D
CALSCALE:GREGORIAN
BEGIN:VEVENT
DTSTART:20151114T010000Z
DTEND:20151114T030000Z
X-MICROSOFT-CDO-ALLDAYEVENT:FALSE
SUMMARY:Bernice Johnson Reagon & Toshi Reagon in Concert
DESCRIPTION:The McCormack Endowed Visiting Artist-Scholar Residency at the Arthur Zankel Music Center at Skidmore College features Bernice Johnson Reagon and Toshi Reagon in Concert. This culturally enriching and uplifting performance is inspired by a powerful voice for freedom and justice in American music. Bernice Johnson Reagon\, scholar\, singer/songleader\, and activist for over half a century\, has been a profound contributor to African American and American culture. Born in south-west Georgia\, her singing style and traditional repertoire are grounded in her experiences in church\, high school\, and political activism. Toshi Reagon\, singer\, composer\, musician producer\, founder\, and leader of her own ensemble\, Toshi Reagon and Big Lovely\, has been described as "a one-woman celebration of all that's dynamic\, progressive and uplifting in American music."
X-ALT-DESC;FMTTYPE=text/html:The McCormack Endowed Visiting Artist-Scholar Residency at the Arthur Zankel Music Center at Skidmore College features Bernice Johnson Reagon and Toshi Reagon in Concert. This culturally enriching and uplifting performance is inspired by a powerful voice for freedom and justice in American music. Bernice Johnson Reagon\, scholar\, singer/songleader\, and activist for over half a century\, has been a profound contributor to African American and American culture. Born in south-west Georgia\, her singing style and traditional repertoire are grounded in her experiences in church\, high school\, and political activism. Toshi Reagon\, singer\, composer\, musician producer\, founder\, and leader of her own ensemble\, Toshi Reagon and Big Lovely\, has been described as &quot\;a one-woman celebration of all that&#39\;s dynamic\, progressive and uplifting in American music.&quot\;
LOCATION:Arthur Zankel Music Center\, Skidmore College
UID:e.2254.12787
SEQUENCE:3
DTSTAMP:20260422T104207Z
URL:https://chamber.saratoga.org/events/details/bernice-johnson-reagon-toshi-reagon-in-concert-11-13-2015-12787
END:VEVENT

END:VCALENDAR
