BEGIN:VCALENDAR
VERSION:2.0
PRODID:-//ChamberMaster//Event Calendar 2.0//EN
METHOD:PUBLISH
X-PUBLISHED-TTL:P3D
REFRESH-INTERVAL:P3D
CALSCALE:GREGORIAN
BEGIN:VEVENT
DTSTART:20160615T130000Z
DTEND:20160618T200000Z
X-MICROSOFT-CDO-ALLDAYEVENT:FALSE
SUMMARY:Beginning Blacksmithing with Garry Kalajian. #940-0615. 4 days. June 15-18
DESCRIPTION:This workshop is for beginners\, but is well suited for those with some experience who wish to improve their skills or get help with a project. All the basics of traditional coal-forge blacksmithing will be covered: lighting and managing a forge fire\, basic operations (including forge welding)\, and metallurgy and its application to tool making. Suggested projects include a gate hook\, a trivet\, and a chisel\, but participants are encouraged to pursue their interest in their own projects. NOTE: Hard shoes and long pants are required for student safety.
X-ALT-DESC;FMTTYPE=text/html:This workshop is for beginners\, but is well suited for those with some experience who wish to improve their skills or get help with a project. All the basics of traditional coal-forge blacksmithing will be covered: lighting and managing a forge fire\, basic operations (including forge welding)\, and metallurgy and its application to tool making. Suggested projects include a gate hook\, a trivet\, and a chisel\, but participants are encouraged to pursue their interest in their own projects. NOTE: Hard shoes and long pants are required for student safety.
LOCATION:Adirondack Folk School 51 Main Street Lake Luzerne\, NY 12846
UID:e.2254.15263
SEQUENCE:3
DTSTAMP:20260421T080841Z
URL:https://chamber.saratoga.org/events/details/beginning-blacksmithing-with-garry-kalajian-940-0615-4-days-june-15-18-06-15-2016-15263
END:VEVENT

END:VCALENDAR
