BEGIN:VCALENDAR
VERSION:2.0
PRODID:-//ChamberMaster//Event Calendar 2.0//EN
METHOD:PUBLISH
X-PUBLISHED-TTL:P3D
REFRESH-INTERVAL:P3D
CALSCALE:GREGORIAN
BEGIN:VEVENT
DTSTART:20160221T200000Z
DTEND:20160221T230000Z
X-MICROSOFT-CDO-ALLDAYEVENT:FALSE
SUMMARY:Beethoven Festival
DESCRIPTION:This performance of the Albany Symphony Orchestra features the Piano students of Emanuel Ax: Orion Weiss\, Dong Hyek Lim\, Niko Namoradze\, George Li\, and Louis Schwizgebel. Pieces include: The Complete Piano Concertos of Beethoven (Saturday: Concertos 1\,2\,3) (Sunday: Concertos 4\,5)
X-ALT-DESC;FMTTYPE=text/html:This performance of the Albany Symphony Orchestra features the Piano students of Emanuel Ax: Orion Weiss\, Dong Hyek Lim\, Niko Namoradze\, George Li\, and Louis Schwizgebel. Pieces include: The Complete Piano Concertos of Beethoven (Saturday: Concertos 1\,2\,3) (Sunday: Concertos 4\,5)
LOCATION:Troy Savings Bank Music Hall 30 Second Street Troy\, NY 12180
UID:e.2254.8299
SEQUENCE:3
DTSTAMP:20260422T022421Z
URL:https://chamber.saratoga.org/events/details/beethoven-festival-02-21-2016-8299
END:VEVENT

END:VCALENDAR
