BEGIN:VCALENDAR
VERSION:2.0
PRODID:-//ChamberMaster//Event Calendar 2.0//EN
METHOD:PUBLISH
X-PUBLISHED-TTL:P3D
REFRESH-INTERVAL:P3D
CALSCALE:GREGORIAN
BEGIN:VEVENT
DTSTART:20151105T220000Z
DTEND:20151106T000000Z
X-MICROSOFT-CDO-ALLDAYEVENT:FALSE
SUMMARY:Beauty Beyond - Pass It on!
DESCRIPTION:Join in for a fun "Pay It Forward" mixer taking place at The Bella Nani Spa in Ballston Spa Thursday November 5th 5-7pm! Come drop off your gently used apparel and accessories for the fundraiser Moxie Swap to support the non profit Wellspring and take in some lovely festivities - Massage\, polish changes\, paraffin dips all under $5\, unique Jewelry\, playful make up and more! Plus\, when you donate you will be entered into a drawing for $50 of spa services! (event is free with some small fees for some services) https://www.facebook.com/events/896893397072334/MoxieMo
X-ALT-DESC;FMTTYPE=text/html:Join in for a fun &quot\;Pay It Forward&quot\; mixer taking place at The Bella Nani Spa in Ballston Spa Thursday November 5th 5-7pm! Come drop off your gently used apparel and accessories for the fundraiser Moxie Swap to support the non profit Wellspring and take in some lovely festivities - Massage\, polish changes\, paraffin dips all under $5\, unique Jewelry\, playful make up and more! Plus\, when you donate you will be entered into a drawing for $50 of spa services! (event is free with some small fees for some services) https://www.facebook.com/events/896893397072334/MoxieMo
LOCATION:131 Milton Ave. Ballston Spa NY.
UID:e.2254.12778
SEQUENCE:3
DTSTAMP:20260422T103155Z
URL:https://chamber.saratoga.org/events/details/beauty-beyond-pass-it-on-11-05-2015-12778
END:VEVENT

END:VCALENDAR
