BEGIN:VCALENDAR
VERSION:2.0
PRODID:-//ChamberMaster//Event Calendar 2.0//EN
METHOD:PUBLISH
X-PUBLISHED-TTL:P3D
REFRESH-INTERVAL:P3D
CALSCALE:GREGORIAN
BEGIN:VEVENT
DTSTART:20140806T100000Z
DTEND:20140806T140000Z
X-MICROSOFT-CDO-ALLDAYEVENT:FALSE
SUMMARY:"Beat the Odds" - 08/06/2014
DESCRIPTION:Morning symposium featuring medical experts speaking on breast cancerOn August 6th\, To Life! will host a morning symposium featuring medical experts speaking on breast cancer at the Gideon Putnam Hotel in Saratoga Springs. This event includes light breakfast and refreshments and run from 8:00am - noon. Featured speakers include Dr. Jenny Romero\, Dr. Arvind Mahatme and Karen Carey. Registration is required. Visit the To Life! website to register or call 518-439-5975.
X-ALT-DESC;FMTTYPE=text/html:<p>Morning symposium featuring medical experts speaking on breast cancer</p><span style="font-family: Verdana\, sans-serif\; line-height: normal\; background-color: rgb(255\, 255\, 255)\;">On August 6th\, To Life! will host a morning symposium featuring medical experts speaking on breast cancer at the Gideon Putnam Hotel in Saratoga Springs. This event includes light breakfast and refreshments and run from 8:00am - noon. Featured speakers include Dr. Jenny Romero\, Dr. Arvind Mahatme and Karen Carey. Registration is required. Visit the To Life! website to register or call 518-439-5975.</span><br>
LOCATION:Giedon Putnam Hotel
UID:e.2254.3421
SEQUENCE:3
DTSTAMP:20260424T184302Z
URL:https://chamber.saratoga.org/events/details/beat-the-odds-08-06-2014-08-06-2014-3421
END:VEVENT

END:VCALENDAR
