BEGIN:VCALENDAR
VERSION:2.0
PRODID:-//ChamberMaster//Event Calendar 2.0//EN
METHOD:PUBLISH
X-PUBLISHED-TTL:P3D
REFRESH-INTERVAL:P3D
CALSCALE:GREGORIAN
BEGIN:VEVENT
DTSTART:20160924T150000Z
DTEND:20160924T180000Z
X-MICROSOFT-CDO-ALLDAYEVENT:FALSE
SUMMARY:Basket Party with Raffle Wall and silent auction
DESCRIPTION:Over 100 great baskets and raffle items. We also have silent auction items: equine photo shoot\, local artist wild life prints and golf packages from local clubs. This is a fundraising event to support therapeutic horseback riding and hippotherapy for children with special needs @ Nipper Knolls Equine Center. 100% of proceeds will go directly to the program. No administration fees. You do not need to be present to win! Food available for purchase. Come join in the FUN and support a great local program.
X-ALT-DESC;FMTTYPE=text/html:Over 100 great baskets and raffle items. We also have silent auction items: equine photo shoot\, local artist wild life prints and golf packages from local clubs. This is a fundraising event to support therapeutic horseback riding and hippotherapy for children with special needs @ Nipper Knolls Equine Center. 100% of proceeds will go directly to the program. No administration fees. You do not need to be present to win! Food available for purchase. Come join in the FUN and support a great local program.
LOCATION:Gansevoort Fire House Route 32\, Gansevoort\, NY 12831
UID:e.2254.19525
SEQUENCE:3
DTSTAMP:20260420T232027Z
URL:https://chamber.saratoga.org/events/details/basket-party-with-raffle-wall-and-silent-auction-19525
END:VEVENT

END:VCALENDAR
