BEGIN:VCALENDAR
VERSION:2.0
PRODID:-//ChamberMaster//Event Calendar 2.0//EN
METHOD:PUBLISH
X-PUBLISHED-TTL:P3D
REFRESH-INTERVAL:P3D
CALSCALE:GREGORIAN
BEGIN:VEVENT
DTSTART:20161106T140000Z
DTEND:20161106T210000Z
X-MICROSOFT-CDO-ALLDAYEVENT:FALSE
SUMMARY:Basic Weaving with Caroline Dvorak. #934-1106.
DESCRIPTION:Weaving looms may look complex\, but take this class to de-mystify the process. We'll plan a project\, measure the warp\, dress the loom and complete a small weaving project in this full day class.\n\n\nNOTE:  Material Fees included.
X-ALT-DESC;FMTTYPE=text/html:<pre>\n<span style="color:black"><span style="font-family:arial\,sans-serif"><span style="font-size:12.0pt">Weaving looms may look complex\, but take this class to de-mystify the process. We&#39\;ll plan a project\, measure the warp\, dress the loom and complete a small weaving project in this full day class.</span></span></span></pre>\n\n<pre>\n<strong><span style="color:black"><span style="font-family:\n"><span style="font-size:12.0pt">NOTE:&nbsp\; Material Fees included.</span></span></span></strong></pre>\n
LOCATION:Adirondack Folk School 51 Main Street Lake Luzerne\, NY 12846
UID:e.2254.17010
SEQUENCE:3
DTSTAMP:20260420T200641Z
URL:https://chamber.saratoga.org/events/details/basic-weaving-with-caroline-dvorak-934-1106-11-06-2016-17010
END:VEVENT

END:VCALENDAR
