BEGIN:VCALENDAR
VERSION:2.0
PRODID:-//ChamberMaster//Event Calendar 2.0//EN
METHOD:PUBLISH
X-PUBLISHED-TTL:P3D
REFRESH-INTERVAL:P3D
CALSCALE:GREGORIAN
BEGIN:VEVENT
DTSTART:20170211T233000Z
DTEND:20170211T050000Z
X-MICROSOFT-CDO-ALLDAYEVENT:FALSE
SUMMARY:Bartenders' Ball- Anchors Away! Cruise with CAPTAIN
DESCRIPTION:Voyage with us as we present the 20th Annual Bartenders' Ball -- Anchors Away! Cruise with CAPTAIN. Dress for Dinner with the CAPTAIN as you dine from our ports of call\, dance to the lively Grand Central Station Band\, and maybe win a Celebrity Cruise to the Caribbean!\n\n\n\nFor $40 extra/person\, enjoy our CAPTAIN's Lounge\, the ideal setting for a specialty experience\, where you'll receive dedicated registration and coat check\, one drink ticket\, a charging station\, a chance to win the CAPTAIN's Lounge raffle\, and more!\n\n\n\n$60/person\, Tables of 10 strongly encouraged\n\n$40 extra/person for CAPTAIN's Lounge
X-ALT-DESC;FMTTYPE=text/html:<span class="_4n-j fsl">Voyage with us as we present the 20th Annual Bartenders&#39\; Ball -- Anchors Away! Cruise with CAPTAIN. Dress for Dinner with the CAPTAIN as you dine from our ports of call\, dance to the lively Grand Central Station Band\, and maybe win a Celebrity Cruise to the Caribbean!<br />\n<br />\nFor $40 extra/person\, enjoy our CAPTAIN&#39\;s Lounge\, the ideal setting for a specialty experience\, where you&#39\;ll receive dedicated registration and coat check\, one drink ticket\, a charging station\, a chance to win the CAPTAIN&#39\;s Lounge raffle\, and more!<br />\n<br />\n$60/person\, Tables of 10 strongly encouraged<br />\n$40 extra/person for CAPTAIN&#39\;s Lounge</span>
LOCATION:Saratoga Springs City Center 522 Broadway Saratoga Springs NY 12866
UID:e.2254.6162
SEQUENCE:3
DTSTAMP:20260420T115206Z
URL:https://chamber.saratoga.org/events/details/bartenders-ball-anchors-away-cruise-with-captain-6162
END:VEVENT

END:VCALENDAR
