BEGIN:VCALENDAR
VERSION:2.0
PRODID:-//ChamberMaster//Event Calendar 2.0//EN
METHOD:PUBLISH
X-PUBLISHED-TTL:P3D
REFRESH-INTERVAL:P3D
CALSCALE:GREGORIAN
BEGIN:VEVENT
DTSTART:20150827T223000Z
DTEND:20150828T010000Z
X-MICROSOFT-CDO-ALLDAYEVENT:FALSE
SUMMARY:Barbershop on Broadway
DESCRIPTION:The award-winning Racing City Chorus performs weekly sidewalk mini-concerts downtown Saratoga Springs in the four-part harmony barbershop style during the thorougbred race meet.Venues and times: Crafters Gallery\, 6:30 p.m.\; Stadium Cafe\, 6:45 p.m.\; Maestro's at the Van Dam\, 7:05 p.m.\; Crown Grill/Circus Cafe\, 7:30 p.m.\; Lillian's Restaurant\, 7:50 p.m.\; Saratoga Guitar\, 8:15 p.m.\; Olde Bryan Inn\, 8:45 p.m. Performance dates: July 30\, August 6\, 13\, 20\, 27 and September 1.
X-ALT-DESC;FMTTYPE=text/html:The award-winning Racing City Chorus performs weekly sidewalk mini-concerts downtown Saratoga Springs in the four-part harmony barbershop style during the thorougbred race meet.Venues and times: Crafters Gallery\, 6:30 p.m.\; Stadium Cafe\, 6:45 p.m.\; <span style="color: black\; font-family: &quot\;Calibri&quot\;\,&quot\;sans-serif&quot\;\; font-size: 12pt\; mso-fareast-font-family: &quot\;Times New Roman&quot\;\; mso-ansi-language: EN-US\; mso-fareast-language: EN-US\; mso-bidi-language: AR-SA\;">Maestro&rsquo\;s at the Van Dam</span>\, 7:05 p.m.\; Crown Grill/Circus Cafe\, 7:30 p.m.\; Lillian&#39\;s Restaurant\, 7:50 p.m.\; Saratoga Guitar\, 8:15 p.m.\; Olde Bryan Inn\, 8:45 p.m. Performance dates: July 30\, August 6\, 13\, 20\, 27 and September 1.
LOCATION:Downtown Saratoga Springs
UID:e.2254.10143
SEQUENCE:3
DTSTAMP:20260423T023358Z
URL:https://chamber.saratoga.org/events/details/barbershop-on-broadway-08-27-2015-10143
END:VEVENT

END:VCALENDAR
