BEGIN:VCALENDAR
VERSION:2.0
PRODID:-//ChamberMaster//Event Calendar 2.0//EN
METHOD:PUBLISH
X-PUBLISHED-TTL:P3D
REFRESH-INTERVAL:P3D
CALSCALE:GREGORIAN
BEGIN:VEVENT
DTSTART:20150614T020000Z
DTEND:20150615T020000Z
X-MICROSOFT-CDO-ALLDAYEVENT:FALSE
SUMMARY:Ballston Spa Village Wide Garage Sale -
DESCRIPTION:Ballston Spa's annual Village Wide Garage Sale weekend is June 13-14. In a tradition that goes back well over 20 years\, residents and community groups hold sales throughout the village and the surrounding area. This is not an officially organized event. Hours vary by location. If you are having a garage/yard sale or related event in the Ballston Spa area that weekend and would like your location included with the compiled listing to be posted on the Ballston Spa Business & Professional Association's website www.ballston.org and promoted on our Facebook page\, call or email Ellen at 885-2772 or info@ballston.org no later than Monday\, June 2. You do not need to be a BSBPA member to be listed. Community groups are encouraged. Only location and days/hours are listed.
X-ALT-DESC;FMTTYPE=text/html:<span class="EventText">Ballston Spa&#39\;s annual Village Wide Garage Sale weekend is June 13-14. In a tradition that goes back well over 20 years\, residents and community groups hold sales throughout the village and the surrounding area. This is not an officially organized event. Hours vary by location. If you are having a garage/yard sale or related event in the Ballston Spa area that weekend and would like your location included with the compiled listing to be posted on the Ballston Spa Business &amp\; Professional Association&#39\;s website www.ballston.org and promoted on our Facebook page\, call or email Ellen at 885-2772 or info@ballston.org no later than Monday\, June 2. You do not need to be a BSBPA member to be listed. Community groups are encouraged. Only location and days/hours are listed.</span>
LOCATION:
UID:e.2254.3242
SEQUENCE:3
DTSTAMP:20260423T073511Z
URL:https://chamber.saratoga.org/events/details/ballston-spa-village-wide-garage-sale-06-13-2015-3242
END:VEVENT

END:VCALENDAR
