BEGIN:VCALENDAR
VERSION:2.0
PRODID:-//ChamberMaster//Event Calendar 2.0//EN
METHOD:PUBLISH
X-PUBLISHED-TTL:P3D
REFRESH-INTERVAL:P3D
CALSCALE:GREGORIAN
BEGIN:VEVENT
DTSTART:20150613T170000Z
DTEND:20150613T200000Z
X-MICROSOFT-CDO-ALLDAYEVENT:FALSE
SUMMARY:AUTHOR AND LOCAL FOOD PRODUCERS COME TOGETHER FOR A BOOK SIGNING AND TASTING EVENT
DESCRIPTION:Join us at The Savory Pantry Saratoga Springs for a book signing with Chuck D'Imperio\, A Taste of Upstate New York.\n\n\n\n"D'Imperio has done an admirable job of recognizing dozens of unique culinary icons\, legendary food purveyors\, and unique food traditions from all over upstate New York. The book celebrates their history and encourages readers to seek them out."\n\n\n\nTo mark the occasion\, The Savory Pantry is bringing together a variety of local food producers who will showcase their upstate foods during the book signing. Select producers include\, Saratoga Crackers\, Saratoga Potato Chips\, Clarity Juice\, Adirondack Wild Honey and Sundae's Best
X-ALT-DESC;FMTTYPE=text/html:<span style="font-size: 14px\;"><span style="font-family: comic sans ms\;"><span style="color: rgb(20\, 24\, 35)\;">Join us at The Savory Pantry Saratoga Springs for a book signing with Chuck D&rsquo\;Imperio\,&nbsp\;</span><a href="https://www.facebook.com/atasteofupstatenewyork" style="color: rgb(59\, 89\, 152)\; line-height: 18.76px\; font-family: helvetica\, arial\, &quot\;lucida grande&quot\;\, sans-serif\; font-size: 14px\; text-decoration: none\; cursor: pointer\;">A Taste of Upstate New York</a><span style="color: rgb(20\, 24\, 35)\;">.</span><br />\n<br />\n<span style="color: rgb(20\, 24\, 35)\;">&quot\;D&rsquo\;Imperio has done an admirable job of recognizing dozens of unique culinary icons\, legendary food purveyors\, and unique food traditions from all over upstate New York. The book celebrates their history and encourages readers to seek them out.&quot\;</span><br />\n<br />\nTo mark the occasion\, The Savory Pantry is bringing together a variety of local food producers who will showcase their upstate foods during the book signing. Select producers include\, Saratoga Crackers\, Saratoga Potato Chips\, Clarity Juice\, Adirondack Wild Honey and Sundae&rsquo\;s Best</span></span>
LOCATION:486 Broadway
UID:e.2254.8757
SEQUENCE:3
DTSTAMP:20260423T074027Z
URL:https://chamber.saratoga.org/events/details/author-and-local-food-producers-come-together-for-a-book-signing-and-tasting-event-06-13-2015-8757
END:VEVENT

END:VCALENDAR
