BEGIN:VCALENDAR
VERSION:2.0
PRODID:-//ChamberMaster//Event Calendar 2.0//EN
METHOD:PUBLISH
X-PUBLISHED-TTL:P3D
REFRESH-INTERVAL:P3D
CALSCALE:GREGORIAN
BEGIN:VEVENT
DTSTART;VALUE=DATE:20150323
DTEND;VALUE=DATE:20150324
TRANSP:TRANSPARENT
X-MICROSOFT-CDO-ALLDAYEVENT:TRUE
SUMMARY:Attitude of Gratitude Mondays
DESCRIPTION:Mingle on the Avenue\, Saratoga Springs commences a series of opportunities to help out local organizations and give back to the Saratoga community. \n\nSaratoga Springs\, NY\n\n- Mingle on the Avenue\, Saratoga Springs is extending the love that surrounds Valentine's Day to a 12 week campaign dedicated to helping the Saratoga community. Beginning Monday\, February 23\, Mingle will offer Attitude of Gratitude Mondays during which 15% of breakfast\, lunch and dinner proceeds will be donated to a specific local community organization every week for 12 weeks. "We would like to thank our friends and neighbors for supporting our local business" says Jose Filomeno\, Managing Partner of Mingle on the Avenue Saratoga Springs. We will be donating a portion of our Monday sales to a different local organization each week in support of our "Attitude of Gratitude" belief. Please join us in support of the groups who support our community..." \n\nThe promotion runs from February 23 through May 11. Go to www.mingleontheavenue.com beginning next week for information on the weekly lineup of organizations who will receive support throughout the 12 week series.
X-ALT-DESC;FMTTYPE=text/html:<p align="LEFT"><b><font size="4">Mingle on the Avenue\, Saratoga Springs commences a series of opportunities to help out local organizations </font></b><span style="font-family: arial\;"><strong><font size="3"><font size="3">and give back to the Saratoga community. </font></font></strong></span></p>\n\n<p><b><font size="3">Saratoga Springs\, NY</font></b></p>\n\n<p><font face="Candara\,Candara" size="3"><font face="Candara\,Candara" size="3">- Mingle on the Avenue\, Saratoga Springs is extending the love that surrounds Valentine&rsquo\;s Day to a 12 week campaign dedicated to helping the Saratoga community. Beginning Monday\, February 23\, Mingle will offer Attitude of Gratitude Mondays during which 15% of breakfast\, lunch and dinner proceeds will be donated to a specific local community organization every week for 12 weeks. &quot\;We would like to thank our friends and neighbors for supporting our local business&quot\; says Jose Filomeno\, Managing Partner of Mingle on the Avenue Saratoga Springs. We will be donating a portion of our Monday sales to a different local organization each week in support of our &quot\;Attitude of Gratitude&quot\; belief. Please join us in support of the groups who support our community...&quot\; </font></font></p>\n\n<p><font face="Candara\,Candara" size="3"><font face="Candara\,Candara" size="3">The promotion runs from February 23 through May 11. Go to www.mingleontheavenue.com beginning next week for information on the weekly lineup of organizations who will receive support throughout the 12 week series. </font></font></p>\n
LOCATION:30 Lake Avenue\, Saratoga Springs next to the Pavilion Grand Hotel.
UID:e.2254.6025
SEQUENCE:3
DTSTAMP:20260423T230822Z
URL:https://chamber.saratoga.org/events/details/attitude-of-gratitude-mondays-03-23-2015-6025
END:VEVENT

END:VCALENDAR
