BEGIN:VCALENDAR
VERSION:2.0
PRODID:-//ChamberMaster//Event Calendar 2.0//EN
METHOD:PUBLISH
X-PUBLISHED-TTL:P3D
REFRESH-INTERVAL:P3D
CALSCALE:GREGORIAN
BEGIN:VEVENT
DTSTART:20151109T140000Z
DTEND:20151109T163000Z
X-MICROSOFT-CDO-ALLDAYEVENT:FALSE
SUMMARY:Attention Veterans! - Unlocking Veterans' Potential
DESCRIPTION:A resource fair for veterans and family members entering the workforce with a corporate leader discussion on the mutual benefit of veteran employment.\n\n\n\nKeynote Address\n\nBrigadier General Michael Swezey\n\n\n\nFinding Job Opprotunities \n\nTimes Union and Military.com will speak about where to find career opportunities\n\n\n\nConnecting with other Veterans\n\nLearn about how Ayco's veteran population has benefited from the Ayco Diversity Network.\n\n\n\nLearn about local veteran programs\n\n	Yellow Ribbon Program\n	Saratoga War Horse\n\nMarketing your Military Experience\n\nRay Gagnon\, chairman of The Chamber of Schenectady County's Unified Military Affairs Council\, to speak about how to translate your military skills to civilian positions. \n\n\n\nContinuing your education\n\nLocal colleges and universities will be available to discuss educational and employment opportunities for veterans.\n\n\n\nNetworking Session\n\nFollowing the presentations\, please join us for a networking session with Ayco\, UHY\, Albany Medical Center\, DeCrescente Distributing Company\, Trustco Bank\, Saratoga Veterans Business Council and other local employers\, colleges and universities. \n\nResumes welcomed!
X-ALT-DESC;FMTTYPE=text/html:A resource fair for veterans and family members entering the workforce with a corporate leader discussion on the mutual benefit of veteran employment.<br />\n<br />\n<strong>Keynote Address</strong><br />\nBrigadier General Michael Swezey<br />\n<br />\n<strong>Finding Job Opprotunities</strong>&nbsp\;<br />\nTimes Union and Military.com will speak about where to find career opportunities<br />\n<br />\n<strong>Connecting with other Veterans</strong><br />\nLearn about how Ayco&#39\;s veteran population has benefited from the Ayco Diversity Network.<br />\n<br />\nLearn about local veteran programs\n<ul>\n	<li>Yellow Ribbon Program</li>\n	<li>Saratoga War Horse</li>\n</ul>\n<strong>Marketing your Military Experience</strong><br />\nRay Gagnon\, chairman of The Chamber of Schenectady County&#39\;s Unified Military Affairs Council\, to speak about how to translate your military skills to civilian positions.&nbsp\;<br />\n<br />\n<strong>Continuing your education</strong><br />\nLocal colleges and universities will be available to discuss educational and employment opportunities for veterans.<br />\n<br />\n<strong>Networking Session</strong><br />\nFollowing the presentations\, please join us for a networking session with Ayco\, UHY\, Albany Medical Center\, DeCrescente Distributing Company\, Trustco Bank\, Saratoga Veterans Business Council and other local employers\, colleges and universities.&nbsp\;<br />\n<strong>Resumes welcomed!</strong><br />\n&nbsp\;
LOCATION:The Desmond Hotel Albany\, NY
UID:e.2254.12740
SEQUENCE:3
DTSTAMP:20260422T103204Z
URL:https://chamber.saratoga.org/events/details/attention-veterans-unlocking-veterans-potential-11-09-2015-12740
END:VEVENT

END:VCALENDAR
