BEGIN:VCALENDAR
VERSION:2.0
PRODID:-//ChamberMaster//Event Calendar 2.0//EN
METHOD:PUBLISH
X-PUBLISHED-TTL:P3D
REFRESH-INTERVAL:P3D
CALSCALE:GREGORIAN
BEGIN:VEVENT
DTSTART:20161104T210000Z
DTEND:20161104T233000Z
X-MICROSOFT-CDO-ALLDAYEVENT:FALSE
SUMMARY:Arts Fest Fridays presents “Dear America: History Meets Hip-Hop at the Tang Mus
DESCRIPTION:On Friday\, November 4\, 5-7:30pm\, Arts Fest Fridays presents "Dear America: History Meets Hip-Hop at the Tang Museum\," an evening of eclectic historic- and election-themed entertainment including vintage campaign songs from musician/artist Brian Dewan (They Might Be Giants\, Blue Man Group\, Sesame Street)\, hip-hop poets and performers from Saratoga Springs High School and Skidmore College\, and historic reenactors from across the Capital Region.  This FREE\, family-friendly event takes place within the exhibit "A More Perfect Union\," which includes American flags collected in all 50 states by artist Mel Ziegler.
X-ALT-DESC;FMTTYPE=text/html:On Friday\, November 4\, 5-7:30pm\, Arts Fest Fridays presents &ldquo\;Dear America: History Meets Hip-Hop at the Tang Museum\,&rdquo\; an evening of eclectic historic- and election-themed entertainment including vintage campaign songs from musician/artist Brian Dewan (They Might Be Giants\, Blue Man Group\, Sesame Street)\, hip-hop poets and performers from Saratoga Springs High School and Skidmore College\, and historic reenactors from across the Capital Region.&nbsp\; This FREE\, family-friendly event takes place within the exhibit &ldquo\;A More Perfect Union\,&rdquo\; which includes American flags collected in all 50 states by artist Mel Ziegler.
LOCATION:Tang Museum 815 North Broadway Saratoga Springs\, NY 12866
UID:e.2254.20837
SEQUENCE:3
DTSTAMP:20260420T202125Z
URL:https://chamber.saratoga.org/events/details/arts-fest-fridays-presents-dear-america-history-meets-hip-hop-at-the-tang-mus-20837
END:VEVENT

END:VCALENDAR
