BEGIN:VCALENDAR
VERSION:2.0
PRODID:-//ChamberMaster//Event Calendar 2.0//EN
METHOD:PUBLISH
X-PUBLISHED-TTL:P3D
REFRESH-INTERVAL:P3D
CALSCALE:GREGORIAN
BEGIN:VEVENT
DTSTART:20160909T230000Z
DTEND:20160910T013000Z
X-MICROSOFT-CDO-ALLDAYEVENT:FALSE
SUMMARY:ARTS FEST FRIDAYS Light the Night
DESCRIPTION:On Friday\, September 9th\, Saratoga Springs will be getting a "sneak peek" of a major\, multi-city public art installation that will be attracting national attention to Capital Region.  Arts Fest Friday LIGHT THE NIGHT Event\, an evening of arts and entertainment at Spring Street Gallery\, will feature music\, food\, activities\, and the region's first glimpse of the "Breathing Lights" public art project\, coming to Albany\, Schenectady and Troy in October 2016.  Artist Adam Frelin will greet visitors and "turn on the lights" during the free Arts Fest Friday LIGHT THE NIGHT event.   Entertainment at Arts Fest Friday LIGHT THE NIGHT includes a light installation by artist Brent Pickerd titled "Flora Lux\," music by D.J. Tall Matt\, beer tasting by Glens Falls brewery Common Roots\, surprise street performances\, children's activities by On Deck Saratoga and much more.  Presented by Saratoga Chamber of Commerce\,  SaratogaArtsFest and Spring Street Gallery
X-ALT-DESC;FMTTYPE=text/html:On Friday\, September 9th\, Saratoga Springs will be getting a &ldquo\;sneak peek&rdquo\; of a major\, multi-city public art installation that will be attracting national attention to Capital Region.&nbsp\; Arts Fest Friday LIGHT THE NIGHT Event\, an evening of arts and entertainment at Spring Street Gallery\, will feature music\, food\, activities\, and the region&rsquo\;s first glimpse of the &ldquo\;Breathing Lights&rdquo\; public art project\, coming to Albany\, Schenectady and Troy in October 2016.&nbsp\; Artist Adam Frelin will greet visitors and &ldquo\;turn on the lights&rdquo\; during the free Arts Fest Friday LIGHT THE NIGHT event. &nbsp\; Entertainment at Arts Fest Friday LIGHT THE NIGHT includes a light installation by artist Brent Pickerd titled &ldquo\;Flora Lux\,&rdquo\; music by D.J. Tall Matt\, beer tasting by Glens Falls brewery Common Roots\, surprise street performances\, children&rsquo\;s activities by On Deck Saratoga and much more.&nbsp\; Presented by Saratoga Chamber of Commerce\, &nbsp\;SaratogaArtsFest and Spring Street Gallery
LOCATION:Spring Street Gallery 110 Spring Street Saratoga Springs\, NY 12866
UID:e.2254.18634
SEQUENCE:3
DTSTAMP:20260420T232257Z
URL:https://chamber.saratoga.org/events/details/arts-fest-fridays-light-the-night-09-09-2016-18634
END:VEVENT

END:VCALENDAR
