BEGIN:VCALENDAR
VERSION:2.0
PRODID:-//ChamberMaster//Event Calendar 2.0//EN
METHOD:PUBLISH
X-PUBLISHED-TTL:P3D
REFRESH-INTERVAL:P3D
CALSCALE:GREGORIAN
BEGIN:VEVENT
DTSTART:20150917T220000Z
DTEND:20150918T003000Z
X-MICROSOFT-CDO-ALLDAYEVENT:FALSE
SUMMARY:Arts Attitudes Exhibit and Sale
DESCRIPTION:Arts Attitudes Exhibit and Sale 40 Regional Artists  featuring Anne Diggory Opening Reception  Thursday\, September 17th  6:00 PM.  8:30pm Historic Round Lake Auditorium- Northway Exit 11 Wine and Hors D'oeuvres\, live auction\, conversation with featured artist Entertainment by HEARD.  At the door - $20.00 Students - $10.00\, Children under 12 free.   Additional Hours: FREE TO PUBLIC Friday\, September 18th.  3:00 to 7:00 pm Saturday\, September 19 th 11:00 AM. to 4:00 pm.  Sunday\, September 20 th. 1:00 to 7:00 pm MaltaArts.org  for additional information
X-ALT-DESC;FMTTYPE=text/html:Arts Attitudes Exhibit and Sale 40 Regional Artists&nbsp\; featuring Anne Diggory Opening Reception&nbsp\; Thursday\, September 17th&nbsp\; 6:00 PM.&nbsp\; 8:30pm Historic Round Lake Auditorium- Northway Exit 11 Wine and Hors D&#39\;oeuvres\, live auction\, conversation with featured artist Entertainment by HEARD. &nbsp\;At the door - $20.00 Students - $10.00\, Children under 12 free.&nbsp\; &nbsp\;Additional Hours: FREE TO PUBLIC Friday\, September 18th.&nbsp\; 3:00&nbsp\;to 7:00 pm Saturday\, September 19&nbsp\;th 11:00 AM. to 4:00 pm. &nbsp\;Sunday\, September 20&nbsp\;th. 1:00&nbsp\;to 7:00 pm MaltaArts.org&nbsp\; for additional information
LOCATION:Historic Round Lake Auditorium Northway Exit 11-Village of Round Lake
UID:e.2254.12325
SEQUENCE:3
DTSTAMP:20260423T005718Z
URL:https://chamber.saratoga.org/events/details/arts-attitudes-exhibit-and-sale-09-17-2015-12325
END:VEVENT

END:VCALENDAR
