BEGIN:VCALENDAR
VERSION:2.0
PRODID:-//ChamberMaster//Event Calendar 2.0//EN
METHOD:PUBLISH
X-PUBLISHED-TTL:P3D
REFRESH-INTERVAL:P3D
CALSCALE:GREGORIAN
BEGIN:VEVENT
DTSTART:20150922T230000Z
DTEND:20150923T010000Z
X-MICROSOFT-CDO-ALLDAYEVENT:FALSE
SUMMARY:Artists in Exile
DESCRIPTION:Part of Saratoga Peace Week Artists in Exile: Iraq and Gaza (Part II) Provided by Common Humanity\, the focus of this exhibit is the artwork created by teenage artists living in Gaza. A presentation on conditions in Gaza will be provided by Rachelle Friesen who has worked as a Peace Program Coordinator doing peace and advocacy work in Gaza. Refreshments will be served.
X-ALT-DESC;FMTTYPE=text/html:Part of Saratoga Peace Week Artists in Exile: Iraq and Gaza (Part II) Provided by Common Humanity\, the focus of this exhibit is the artwork created by teenage artists living in Gaza. A presentation on conditions in Gaza will be provided by Rachelle Friesen who has worked as a Peace Program Coordinator doing peace and advocacy work in Gaza. Refreshments will be served.
LOCATION:The Saratoga Marketplace. (455 Broadway)
UID:e.2254.12336
SEQUENCE:3
DTSTAMP:20260423T005335Z
URL:https://chamber.saratoga.org/events/details/artists-in-exile-09-22-2015-12336
END:VEVENT

END:VCALENDAR
