BEGIN:VCALENDAR
VERSION:2.0
PRODID:-//ChamberMaster//Event Calendar 2.0//EN
METHOD:PUBLISH
X-PUBLISHED-TTL:P3D
REFRESH-INTERVAL:P3D
CALSCALE:GREGORIAN
BEGIN:VEVENT
DTSTART:20140712T120000Z
DTEND:20140712T180000Z
X-MICROSOFT-CDO-ALLDAYEVENT:FALSE
SUMMARY:Artificers' Weekend - 07/12/2014
DESCRIPTION:Learn “How it’s Made” 18th century style!Armies in the American Revolution were towns on the move and included important craftsmen like blacksmiths\, farriers\, tailors\, chandlers and tinsmiths.  Learn “How it’s Made” 18th century style!
X-ALT-DESC;FMTTYPE=text/html:<p>Learn “How it’s Made” 18th century style!</p><span style="font-size: 10pt\; line-height: 115%\; font-family: 'Times New Roman'\, serif\;">Armies in the American Revolution were towns on the move and included important craftsmen like blacksmiths\, farriers\, tailors\, chandlers and tinsmiths.&nbsp\; Learn “How it’s Made” 18th century style!</span><br>
LOCATION:Saratoga National Historical Park
UID:e.2254.2290
SEQUENCE:3
DTSTAMP:20260424T204659Z
URL:https://chamber.saratoga.org/events/details/artificers-weekend-07-12-2014-07-12-2014-2290
END:VEVENT

END:VCALENDAR
